BEGIN:VCALENDAR
VERSION:2.0
PRODID:-//ChamberMaster//Event Calendar 2.0//EN
METHOD:PUBLISH
X-PUBLISHED-TTL:P3D
REFRESH-INTERVAL:P3D
CALSCALE:GREGORIAN
BEGIN:VEVENT
DTSTART:20140507T213000Z
DTEND:20140507T233000Z
X-MICROSOFT-CDO-ALLDAYEVENT:FALSE
SUMMARY:2014 Free Enterprise Awards
DESCRIPTION:It's been 40 years! The Chamber's Free Enterprise Awards Program was launched in 1974 and our celebration to recognize business success and community service continues this year in a new form and format.\n \n\nOur 2014 presentation event starts with a Champagne Reception at 5:30 p.m. and includes a delicious selection of hors d'oeuvres. The Awards presentations begin at 6:30 p.m.  Our focus will be entirely devoted to our winners with our program completed by 7:30 p.m.\n\n \n\nSorry... ticket sales for this event have closed and we're busy preparing to host our guests.\n\n \n\nJoin us for an exciting electronic and digital media presentation that showcases success and tells the proud story of the businesses and individuals to be honoured with the 2014 Free Enterprise Master Awards\, the Free Enterprise Awards of Merit and the Chamber Chair's Award.
X-ALT-DESC;FMTTYPE=text/html:It&#39\;s been 40 years! The Chamber&#39\;s Free Enterprise Awards Program was launched in 1974 and our celebration to recognize business success and community service continues this year in a new form and format.\n<div>&nbsp\;</div>\n\n<div>Our 2014 presentation event starts with a Champagne Reception at 5:30 p.m. and includes a delicious selection of hors d&#39\;oeuvres. The Awards presentations begin at 6:30 p.m. &nbsp\;Our focus will be entirely devoted to our winners with our program completed by 7:30 p.m.</div>\n\n<div>&nbsp\;</div>\n\n<div>Sorry... ticket sales for this event have closed and we&#39\;re busy preparing to host our guests.</div>\n\n<div>&nbsp\;</div>\n\n<div>Join us for an exciting electronic and digital media presentation that showcases success and tells the proud story of the businesses and individuals to be honoured with the 2014 Free Enterprise Master Awards\, the Free Enterprise Awards of Merit and the Chamber Chair&#39\;s Award.</div>\n
LOCATION:St. Anne's Centre
UID:e.2614.926
SEQUENCE:3
DTSTAMP:20260422T231926Z
URL:http://www.www.stthomaschamber.on.ca/events/details/2014-free-enterprise-awards-05-07-2014-926
END:VEVENT

END:VCALENDAR
