BEGIN:VCALENDAR
VERSION:2.0
PRODID:-//ChamberMaster//Event Calendar 2.0//EN
METHOD:PUBLISH
X-PUBLISHED-TTL:P3D
REFRESH-INTERVAL:P3D
CALSCALE:GREGORIAN
BEGIN:VEVENT
DTSTART:20150513T213000Z
DTEND:20150513T233000Z
X-MICROSOFT-CDO-ALLDAYEVENT:FALSE
SUMMARY:2015 Free Enterprise Awards Reception
DESCRIPTION:Our annual celebration of business excellence and community service takes place in a reception format with refreshments and hors 'doeuvres as we honour the 2015 recipients of the Free Enterprise Awards of Merit\, the Free Enterprise Master Awards\, and the Chamber Chair's Award for service.\nTickets for the 2015 Free Enterprise Reception are on sale now. Advance sale only\, $30 per person.Contact any of the Chamber staff to order or for more information on this very special evening.
X-ALT-DESC;FMTTYPE=text/html:Our annual celebration of business excellence and community service takes place in a reception format with refreshments and hors 'doeuvres as we honour the 2015 recipients of the Free Enterprise Awards of Merit\, the Free Enterprise Master Awards\, and the Chamber Chair's Award for service.<div><br></div><div>Tickets for the 2015 Free Enterprise Reception are on sale now. Advance sale only\, $30 per person.</div><div>Contact any of the Chamber staff to order or for more information on this very special evening.</div><div><br></div><div><br></div><div><br></div>
LOCATION:St. Anne's Centre
UID:e.2614.947
SEQUENCE:3
DTSTAMP:20260420T124547Z
URL:http://www.www.stthomaschamber.on.ca/events/details/2015-free-enterprise-awards-reception-05-13-2015-947
END:VEVENT

END:VCALENDAR
