BEGIN:VCALENDAR
VERSION:2.0
PRODID:-//ChamberMaster//Event Calendar 2.0//EN
METHOD:PUBLISH
X-PUBLISHED-TTL:P3D
REFRESH-INTERVAL:P3D
CALSCALE:GREGORIAN
BEGIN:VEVENT
DTSTART:20150212T223000Z
DTEND:20150212T233000Z
X-MICROSOFT-CDO-ALLDAYEVENT:FALSE
SUMMARY:2015 Ireland Tour Info Session
DESCRIPTION:The Chamber hosts an exclusive 9-day tour to Ireland this spring\, departing St. Thomas on Wednesday May 13. Our agenda is filled with great value and stops in Limerick\, Kilkenny\, Galway and Dublin.  4 & 5-star hotels all the way AND an overnight stay at the amazing Dromoland Castle.Our info session is free and will feature a presentation by a representative of our tour supplier\, Indus.  Staff from our local travel agent\, Elgin Travel & Cruises\, will be with us as well.\nPlease register in advance so we can properly plan seating and refreshments.  Call the Chamber office at 519-631-1981 or send us a note via email:  mail@stthomaschamber.on.ca\nSee the main page of our website for a link to our complete itinerary\, prices and other details.
X-ALT-DESC;FMTTYPE=text/html:The Chamber hosts an exclusive 9-day tour to Ireland this spring\, departing St. Thomas on Wednesday May 13. Our agenda is filled with great value and stops in Limerick\, Kilkenny\, Galway and Dublin. &nbsp\;4 &amp\; 5-star hotels all the way AND an overnight stay at the amazing Dromoland Castle.<div>Our info session is free and will feature a presentation by a representative of our tour supplier\, Indus. &nbsp\;Staff from our local travel agent\, Elgin Travel &amp\; Cruises\, will be with us as well.</div><div><br></div><div>Please register in advance so we can properly plan seating and refreshments. &nbsp\;Call the Chamber office at 519-631-1981 or send us a note via email: &nbsp\;mail@stthomaschamber.on.ca</div><div><br></div><div>See the main page of our website for a link to our complete itinerary\, prices and other details.</div>
LOCATION:Elgin Business Resource Centre
UID:e.2614.944
SEQUENCE:3
DTSTAMP:20260422T110709Z
URL:http://www.www.stthomaschamber.on.ca/events/details/2015-ireland-tour-info-session-02-12-2015-944
END:VEVENT

END:VCALENDAR
