BEGIN:VCALENDAR
VERSION:2.0
PRODID:-//ChamberMaster//Event Calendar 2.0//EN
METHOD:PUBLISH
X-PUBLISHED-TTL:P3D
REFRESH-INTERVAL:P3D
CALSCALE:GREGORIAN
BEGIN:VEVENT
DTSTART:20120531T164500Z
DTEND:20120531T164500Z
X-MICROSOFT-CDO-ALLDAYEVENT:FALSE
SUMMARY:38th Annual Golf Day
DESCRIPTION:
X-ALT-DESC;FMTTYPE=text/html:
LOCATION:St.Thomas Golf & Country Club
UID:e.2614.864
SEQUENCE:3
DTSTAMP:20260424T124950Z
URL:http://www.www.stthomaschamber.on.ca/events/details/38th-annual-golf-day-05-31-2012-864
END:VEVENT

END:VCALENDAR
