BEGIN:VCALENDAR
VERSION:2.0
PRODID:-//ChamberMaster//Event Calendar 2.0//EN
METHOD:PUBLISH
X-PUBLISHED-TTL:P3D
REFRESH-INTERVAL:P3D
CALSCALE:GREGORIAN
BEGIN:VEVENT
DTSTART:20140529T134500Z
DTEND:20140530T000000Z
X-MICROSOFT-CDO-ALLDAYEVENT:FALSE
SUMMARY:40th Annual Member's Golf Day 2014
DESCRIPTION:It's our 40th Annual Member's Golf Day!!\nGet set for our best Golf Day ever. Our Member Services Committee has put a tremendous amount of time and energy into building a spectacular event to mark our 40th anniversary.Experience 18 holes on one of Southwestern Ontario's premier golf courses.Early-bird booking discount in effect now through May 1\, or as soon as we sell-out.  \n\nSingle: $149  Foursome: $575Golf Pro Driving ClinicAll You Can Eat Dinner BuffetPost Game Social MixerAmazing PrizesSilent AuctionFriendly Competitions and more!It's GUARANTEED to be a great kick-off to summer!Call the Chamber office now to reserve your spot or click here for our Registration Form with all event details.
X-ALT-DESC;FMTTYPE=text/html:<h2 align="center"><font color="#009060" size="4">It's our 40th Annual Member's Golf Day!!</font></h2><div><font face="Verdana"><br></font></div><div><font face="Verdana">Get set for our best Golf Day ever. Our Member Services Committee has put a tremendous amount of time and energy into building a spectacular event to mark our 40th anniversary.</font></div><div><font face="Verdana">Experience 18 holes on one of Southwestern Ontario's premier golf courses.</font></div><div><font face="Verdana">Early-bird booking discount in effect now through May 1\, or as soon as we sell-out.&nbsp\;&nbsp\;</font><br></div><div align="center"><font color="#009060" face="Verdana"><strong><br></strong></font></div><div align="center"><font color="#009060" face="Verdana"><strong>Single: $149&nbsp\;&nbsp\;Foursome: $575</strong></font></div><ul><ul><li><div align="left"><font face="Verdana"><em>Golf Pro Driving Clinic</em></font></div></li><li><font face="Verdana"><em>All You Can Eat Dinner Buffet</em></font></li><li><font face="Verdana"><em>Post Game Social Mixer</em></font></li><li><font face="Verdana"><em>Amazing Prizes</em></font></li><li><font face="Verdana"><em>Silent Auction</em></font></li><li><font face="Verdana"><em>Friendly Competitions and more!</em></font></li></ul></ul><p align="center"></br><font face="Verdana">It's GUARANTEED to be a great kick-off to summer!</font></p><div><font face="Verdana"></br>Call the Chamber office now to reserve your spot or <a href="http://stthomaschamber.on.ca/doc/RegistrationGolfDay2014.pdf" target="_blank"><b><font color="#009060">click here</font></b></a><font color="#00c060"> </font>for our Registration Form with all event details.</font></div>
LOCATION:St. Thomas Golf & Country Club
UID:e.2614.924
SEQUENCE:3
DTSTAMP:20260422T232001Z
URL:http://www.www.stthomaschamber.on.ca/events/details/40th-annual-member-s-golf-day-2014-05-29-2014-924
END:VEVENT

END:VCALENDAR
