BEGIN:VCALENDAR
VERSION:2.0
PRODID:-//ChamberMaster//Event Calendar 2.0//EN
METHOD:PUBLISH
X-PUBLISHED-TTL:P3D
REFRESH-INTERVAL:P3D
CALSCALE:GREGORIAN
BEGIN:VEVENT
DTSTART:20140227T140000Z
DTEND:20140227T203000Z
X-MICROSOFT-CDO-ALLDAYEVENT:FALSE
SUMMARY:Advanced Online Sales & Marketing Strategies To Grow Your Business
DESCRIPTION:Join the St. Thomas & District Chamber of Commerce as they present a full day seminar designed to assist our Members increase sales and create new customers in the online market. Our speaker will guide participants through the process of integrating their social media profile\, website and e-commerce solutions to create the perfect marketing & buying experience.\n\nWe will welcome expert presenter Tyler Logtenberg of ClarisTech\, Google certified in advertising and website analytics\, as our leader for the days informative agenda. Tyler will be covering topics such as: effective online Marketing & Advertising strategies\, the formula for Social Media success\, understanding and interpreting client behavior\, elements of a good website\, how to get your business referred and ensure repeat business in the online market place.\n\nAdvance registration is required.  Maximum 40 participants\, to allow everyone hands-on access to individual computers in the lab.  $25 per person (plus HST) with lunch included. \n\nEvent Agenda:\n9:00 a.m. - 9:30 a.m. - Registration & Introductions\n9:30 a.m. - 10:30 a.m. - Get Your Business Noticed Using Online Marketing & Advertising\n10:30 a.m. - 10:45 a.m. - Break\n10:45 a.m. - 11:45 a.m. - Building Trust In The Online Marketplace Using Social Media \n11:45 a.m. - 12:45 p.m. - Lunch\n12:45 a.m. - 1:45 p.m. - Converting "Lookers" Into "Buyers". Website Sales Strategies\n1:45 p.m. - 2:00 p.m. - Break\n2:00 p.m. - 3:00 p.m. - Creating Repeat Business & Referrals In The Online Marketplace\n3:00 p.m. - 3:30 p.m. - Q & A\n\nTo register please contact the Chamber office 519-631-1981. \n\nWould you like a little more detail? Topics to be covered are:\nCreating interest in your online business using social media\, SEO and online marketing  \nThe process behind every successful saleHow to be top in GoogleUnderstanding & interpreting client behavior and creating tools to meet their needsHow to effectively use online advertising    Elements of a good website\, the first impressionThe Pros and Cons of selling onlineUnderstanding the data and analytics \nThe formula for Social Media successHow to get your business referred and ensure repeat business
X-ALT-DESC;FMTTYPE=text/html:Join the St. Thomas &amp\; District Chamber of Commerce as they present a full day seminar designed to assist our Members increase sales and create new customers in the online market. Our speaker will guide participants through the process of integrating their social media profile\, website and e-commerce solutions to create the perfect marketing &amp\; buying experience.<br><br>We will welcome expert presenter Tyler Logtenberg of ClarisTech\, Google certified in advertising and website analytics\, as our leader for the days informative agenda. Tyler will be covering topics such as: effective online Marketing &amp\; Advertising strategies\, the formula for Social Media success\, understanding and interpreting client behavior\, elements of a good website\, how to get your business referred and ensure repeat business in the online market place.<br><br>Advance registration is required.  Maximum 40 participants\, to allow everyone hands-on access to individual computers in the lab.  $25 per person (plus HST) with lunch included. <br><br>Event Agenda:<br>9:00 a.m. - 9:30 a.m. - Registration &amp\; Introductions<br>9:30 a.m. - 10:30 a.m. - Get Your Business Noticed Using Online Marketing &amp\; Advertising<br>10:30 a.m. - 10:45 a.m. - Break<br>10:45 a.m. - 11:45 a.m. - Building Trust In The Online Marketplace Using Social Media <br>11:45 a.m. - 12:45 p.m. - Lunch<br>12:45 a.m. - 1:45 p.m. - Converting "Lookers" Into "Buyers". Website Sales Strategies<br>1:45 p.m. - 2:00 p.m. - Break<br>2:00 p.m. - 3:00 p.m. - Creating Repeat Business &amp\; Referrals In The Online Marketplace<br>3:00 p.m. - 3:30 p.m. - Q &amp\; A<br><br>To register please contact the Chamber office 519-631-1981. <br><br>Would you like a little more detail? Topics to be covered are:<br><ul><li>Creating interest in your online business using social media\, SEO and online marketing&nbsp\; <br></li><li>The process behind every successful sale</li><li>How to be top in Google</li><li>Understanding &amp\; interpreting client behavior and creating tools to meet their needs</li><li>How to effectively use online advertising&nbsp\; &nbsp\;&nbsp\;</li><li>Elements of a good website\, the first impression</li><li>The Pros and Cons of selling online</li><li>Understanding the data and analytics <br></li><li>The formula for Social Media success</li><li>How to get your business referred and ensure repeat business <br></li></ul>
LOCATION:Fanshawe College
UID:e.2614.917
SEQUENCE:3
DTSTAMP:20260423T033900Z
URL:http://www.www.stthomaschamber.on.ca/events/details/advanced-online-sales-marketing-strategies-to-grow-your-business-02-27-2014-917
END:VEVENT

END:VCALENDAR
