BEGIN:VCALENDAR
VERSION:2.0
PRODID:-//ChamberMaster//Event Calendar 2.0//EN
METHOD:PUBLISH
X-PUBLISHED-TTL:P3D
REFRESH-INTERVAL:P3D
CALSCALE:GREGORIAN
BEGIN:VEVENT
DTSTART:20140409T210000Z
DTEND:20140409T230000Z
X-MICROSOFT-CDO-ALLDAYEVENT:FALSE
SUMMARY:April Business After 5
DESCRIPTION:The St. Thomas Roadhouse and The New Impressions Printing mark the launch of the Chamber's new city & district street map in a totally new format. Our new map will be 2 products in one: a handy paper map PLUS a mobile-friendly and totally searchable electronic map.  \n\n\nAs always\, admission to Business After 5 is free and open to anyone and everyone from any business or organization that is a Member of the St. Thomas & District Chamber.\n\nThe Roadhouse has an incredible spread of food planned\, as well as an abundant supply of your favourite refreshments. Impressions' staff will showcase our new map\, and we'll all team together to give away some great door prizes.\n\nThere's no better way to stay connected and in-touch with your business neighbours and our community.  Please join us!
X-ALT-DESC;FMTTYPE=text/html:<p style="font-size: 10pt\;"><span style="font-family: Arial\; font-size: large\;">The St. Thomas Roadhouse and The New Impressions Printing mark the launch of the Chamber's new city &amp\; district street map in a totally new format. Our new map will be 2 products in one: a handy paper map PLUS a mobile-friendly and totally searchable electronic map. &nbsp\;</span></p>\n\n\n<p style="font-size: 10pt\;"><font size="4">As always\, admission to Business After 5 is free and open to anyone and everyone from any business or organization that is a Member of the St. Thomas &amp\; District Chamber.</font></p>\n\n<p style="font-size: 10pt\;"><font size="4">The Roadhouse has an incredible spread of food planned\, as well as an abundant supply of your favourite refreshments. Impressions' staff will showcase our new map\, and we'll all team together to give away some great door prizes.</font></p>\n\n<p><font size="4">There's no better way to stay connected and in-touch with your business neighbours and our community. &nbsp\;Please join us!</font></p>
LOCATION:St. Thomas Roadhouse
UID:e.2614.883
SEQUENCE:3
DTSTAMP:20260423T005029Z
URL:http://www.www.stthomaschamber.on.ca/events/details/april-business-after-5-04-09-2014-883
END:VEVENT

END:VCALENDAR
