BEGIN:VCALENDAR
VERSION:2.0
PRODID:-//ChamberMaster//Event Calendar 2.0//EN
METHOD:PUBLISH
X-PUBLISHED-TTL:P3D
REFRESH-INTERVAL:P3D
CALSCALE:GREGORIAN
BEGIN:VEVENT
DTSTART:20160413T210000Z
DTEND:20160413T230000Z
X-MICROSOFT-CDO-ALLDAYEVENT:FALSE
SUMMARY:April Business After 5
DESCRIPTION:Please note: the date of this event has changed from earlier postings.\n\nThe Columbus Club of St. Thomas will join with St. Thomas Ford Lincoln to be our hosts and sponsors this month at The Columbus Club. \n\nWith plenty of tasty hors d'oeuvres and snacks for everyone attending\, your favourite refreshments\, and some exceptional door prizes\, this event is one you won't want to miss.\n\n \n\nThe Club's goal in hosting our event this month is to showcase their facility and demonstrate how it can work well for a variety of functions meeting business and personal/social needs.\n\nSt. Thomas Ford Lincoln will add to the event with vehicles and more in special displays and giveaways.\n\n \n\nPlease join us!  Admission is FREE and open to anyone and everyone from all businesses and organizations that are Members of the St. Thomas & District Chamber of Commerce.\n\n \n\nCome and connect with your community and your business neighbours.
X-ALT-DESC;FMTTYPE=text/html:<div>Please note: the date of this event has changed from earlier postings.</div>\n\n<div>The Columbus Club of St. Thomas will join with St. Thomas Ford Lincoln to be our hosts and sponsors this month at The Columbus Club.&nbsp\;<br />\nWith plenty of tasty hors d&#39\;oeuvres and snacks for everyone attending\,&nbsp\;your favourite refreshments\,&nbsp\;and some exceptional door prizes\, this event is one you won&#39\;t want to miss.</div>\n\n<div>&nbsp\;</div>\n\n<div>The Club&#39\;s goal in hosting our event this month is to showcase their facility and demonstrate how it can work well for a variety of functions meeting business and personal/social needs.<br />\nSt. Thomas Ford Lincoln will add to the event with vehicles and more in special displays and giveaways.</div>\n\n<div>&nbsp\;</div>\n\n<div>Please join us! &nbsp\;Admission is FREE and open to anyone and everyone from all businesses and organizations that are Members of the St. Thomas &amp\; District Chamber of Commerce.</div>\n\n<div>&nbsp\;</div>\n\n<div>Come and connect with your community and your business neighbours.</div>\n
LOCATION:The Columbus Club of St. Thomas 265 Wellington Street
UID:e.2614.970
SEQUENCE:3
DTSTAMP:20260419T175930Z
URL:http://www.www.stthomaschamber.on.ca/events/details/april-business-after-5-04-13-2016-970
END:VEVENT

END:VCALENDAR
