BEGIN:VCALENDAR
VERSION:2.0
PRODID:-//ChamberMaster//Event Calendar 2.0//EN
METHOD:PUBLISH
X-PUBLISHED-TTL:P3D
REFRESH-INTERVAL:P3D
CALSCALE:GREGORIAN
BEGIN:VEVENT
DTSTART:20150415T210000Z
DTEND:20150415T230000Z
X-MICROSOFT-CDO-ALLDAYEVENT:FALSE
SUMMARY:April Business After 5
DESCRIPTION:Our date and location for April's Business After 5 are set!\nThe Auto Guys join with The Elgin St. Thomas United Way to co-sponsor April's event with tasty support from our site this month\, the St. Thomas Roadhouse.\nTasty food samples for all\, courtesy of The Roadhouse and\, this month\, some outstanding opportunities at great prizes.  Our main door prize draws include 4 premium tickets to an MLS Professional soccer game in Toronto at BMO Field\, featuring Toronto FC vs. the Portland Timbers on Saturday May 23.  These are among the best seats in the house - 2 rows up from the field behind one of the nets!  We're also giving away 2 Keurig K145 Office Pro brewing machines\, each valued at $199.PRIZE BONUS:  Be among the first 50 people to enter our main prize draw and you will be given a coupon for a 'goodie' bag.  Inside the bags are a random selection of gift cards from The Auto Guys\, the Roadhouse and other donors. You'll have a 1-in-2 chance of claiming a bonus gift valued at $10 to $50.\nAll of the Chamber's monthly Business After 5 events are open and free of charge for anyone from any business or organization that is a Member of the St. Thomas & District Chamber of Commerce.
X-ALT-DESC;FMTTYPE=text/html:Our date and location for April's Business After 5 are set!<div><br></div><div>The Auto Guys join with The Elgin St. Thomas United Way to co-sponsor April's event with tasty support from our site this month\, the St. Thomas Roadhouse.</div><div><br></div><div>Tasty food samples for all\, courtesy of The Roadhouse and\, this month\, some outstanding opportunities at great prizes. &nbsp\;Our main door prize draws include 4 premium tickets to an MLS Professional soccer game in Toronto at BMO Field\, featuring Toronto FC vs. the Portland Timbers on Saturday May 23. &nbsp\;These are among the best seats in the house - 2 rows up from the field behind one of the nets! &nbsp\;We're also giving away 2 Keurig K145 Office Pro brewing machines\, each valued at $199.</div><div>PRIZE BONUS: &nbsp\;Be among the first 50 people to enter our main prize draw and you will be given a coupon for a 'goodie' bag. &nbsp\;Inside the bags are a random selection of gift cards from The Auto Guys\, the Roadhouse and other donors. You'll have a 1-in-2 chance of claiming a bonus gift valued at $10 to $50.</div><div><br></div><div>All of the Chamber's monthly Business After 5 events are open and free of charge for anyone from any business or organization that is a Member of the St. Thomas &amp\; District Chamber of Commerce.</div>
LOCATION:St. Thomas Roadhouse
UID:e.2614.946
SEQUENCE:3
DTSTAMP:20260420T142351Z
URL:http://www.www.stthomaschamber.on.ca/events/details/april-business-after-5-04-15-2015-946
END:VEVENT

END:VCALENDAR
