BEGIN:VCALENDAR
VERSION:2.0
PRODID:-//ChamberMaster//Event Calendar 2.0//EN
METHOD:PUBLISH
X-PUBLISHED-TTL:P3D
REFRESH-INTERVAL:P3D
CALSCALE:GREGORIAN
BEGIN:VEVENT
DTSTART:20150605T113000Z
DTEND:20150605T143000Z
X-MICROSOFT-CDO-ALLDAYEVENT:FALSE
SUMMARY:Attracting & Retaining - The Next Great Employer Challenge
DESCRIPTION:The biggest challenges local employers face are challenges that impact our entire community.attracting people to our community and your businessdealing with attendance\, attrition and turnoverengagement - incentives that work to build productivity and performancePeople are the greatest asset of every business\, organization and community. That's why the St. Thomas & District Chamber and Express Employment Professionals\, and with the support of major local employers\, are teaming to welcome Steve Puckett\, one of the top Human Resources Professionals in North America\,In our 3-hour event\, we will work to give local business owners\, managers and community leaders the best tools to use to retain the right people\, as well as fool proof hiring techniques you can implement to maximize your investment.Limited Registration - Call or email now to guarantee a seat.General Admission:  $25 + HST per personChamber Members: $18 + HST person person\nAll registrations are being handled by the staff at Express Professionals.  Call Sharon Mercer at 519-672-7620 or email: sharon.mercer@expresspros.com\nMark the date now and plan to join us!
X-ALT-DESC;FMTTYPE=text/html:<font face="sans-serif"><span style="font-size: 10pt\;">The biggest challenges local employers face are challenges that impact our entire community.</span></font><div><ul><li><font face="sans-serif"><span style="font-size: 13.3333330154419px\;">attracting people to our community and your business</span></font></li><li><font face="sans-serif"><span style="font-size: 13.3333330154419px\;">dealing with attendance\, attrition and turnover</span></font></li><li><font face="sans-serif"><span style="font-size: 13.3333330154419px\;">engagement - incentives that work to build productivity and performance</span></font></li></ul><font face="sans-serif"><span style="font-size: 13.3333330154419px\;"><div><font face="sans-serif"><span style="font-size: 13.3333330154419px\;">People are the greatest asset of every business\, organization and community. That's why the&nbsp\;</span></font><span style="font-size: 13.3333330154419px\;">St. Thomas &amp\; District Chamber and Express Employment Professionals\, and with the support of major local employers\, are teaming to welcome Steve Puckett\, one of the top Human Resources Professionals in North America\,</span></div><div><span style="font-size: 13.3333330154419px\;">In our 3-hour event\, we will work to give local business owners\, managers and community leaders the best tools to use to retain the right people\, as well as fool proof hiring techniques you can implement to maximize your investment.</span></div><div><font color="#ff0000"><b>Limited Registration - Call or email now to guarantee a seat.</b></font></div><div><span style="font-size: 13.3333330154419px\;">General Admission: &nbsp\;$25 + HST per person</span></div><div><span style="font-size: 13.3333330154419px\;">Chamber Members: $18 + HST person person</span></div><div><span style="font-size: 13.3333330154419px\;"><br></span></div><div><span style="font-size: 13.3333330154419px\;">All registrations are being handled by the staff at Express Professionals. &nbsp\;Call Sharon Mercer at 519-672-7620 or email: sharon.mercer@expresspros.com</span></div><div><span style="font-size: 13.3333330154419px\;"><br></span></div><div><span style="font-size: 13.3333330154419px\;">Mark the date now and plan to join us!</span></div></span></font></div><div><font face="sans-serif"><span style="font-size: 13.3333330154419px\;"><br></span></font></div><div><font face="sans-serif"><span style="font-size: 13.3333330154419px\;"><br></span></font></div>
LOCATION:CASO Railway Station
UID:e.2614.952
SEQUENCE:3
DTSTAMP:20260420T111204Z
URL:http://www.www.stthomaschamber.on.ca/events/details/attracting-retaining-the-next-great-employer-challenge-06-05-2015-952
END:VEVENT

END:VCALENDAR
