BEGIN:VCALENDAR
VERSION:2.0
PRODID:-//ChamberMaster//Event Calendar 2.0//EN
METHOD:PUBLISH
X-PUBLISHED-TTL:P3D
REFRESH-INTERVAL:P3D
CALSCALE:GREGORIAN
BEGIN:VEVENT
DTSTART:20120822T210000Z
DTEND:20120822T230000Z
X-MICROSOFT-CDO-ALLDAYEVENT:FALSE
SUMMARY:August Business After 5
DESCRIPTION:NAPA Auto Pro and Lyle Cook Automotive are our sponsors for the August edition of Business After 5. The first 100 people to arrive get complimentary NAPA gifts and gift certificates\, PLUS a chance to win a fantastic main door prize: unlimited car washes for a year at Bestt No-Touch Automatic Car Wash.\n\nJoin us at Lyle Cook Automotive Service Centre for complimentary hors d'oeuvres and of course networking at its finest!\n\nAs always\, admission to Business After 5 is free and open to anyone from a business or organization that is a current Member of the St. Thomas & District Chamber of Commerce. No Pre-Registration Required
X-ALT-DESC;FMTTYPE=text/html:NAPA Auto Pro and Lyle Cook Automotive are our sponsors for the August edition of Business After 5. The first 100 people to arrive get complimentary NAPA gifts and gift certificates\, PLUS a chance to win a fantastic main door prize: unlimited car washes for a year at Bestt No-Touch Automatic Car Wash.<br><br>Join us at Lyle Cook Automotive Service Centre for complimentary hors d'oeuvres and of course networking at its finest!<br><br>As always\, admission to Business After 5 is free and open to anyone from a business or organization that is a current Member of the St. Thomas &amp\; District Chamber of Commerce. No Pre-Registration Required<br><br>
LOCATION:Lyle Cook Automotive
UID:e.2614.866
SEQUENCE:3
DTSTAMP:20260424T064053Z
URL:http://www.www.stthomaschamber.on.ca/events/details/august-business-after-5-08-22-2012-866
END:VEVENT

END:VCALENDAR
