BEGIN:VCALENDAR
VERSION:2.0
PRODID:-//ChamberMaster//Event Calendar 2.0//EN
METHOD:PUBLISH
X-PUBLISHED-TTL:P3D
REFRESH-INTERVAL:P3D
CALSCALE:GREGORIAN
BEGIN:VEVENT
DTSTART:20150826T210000Z
DTEND:20150826T230000Z
X-MICROSOFT-CDO-ALLDAYEVENT:FALSE
SUMMARY:August Business After 5
DESCRIPTION:It's OUR Hospital!It's THEIR Business After 5!And we're extending a special invitation to the Members of the Aylmer & Area Chamber of Commerce to attend Business After 5 this month and make a big event even bigger.\nUP ON THE ROOF!Our sponsor\, the St. Thomas Elgin General Hospital Foundation\, is planning a special event that will showcase the great list of special events and community activities they are organizing in the coming months. Just follow the signs on arrival and they will take you to the large rooftop patio area\, adjacent to the south side of The Atrium.\nDoor prize draws\, complimentary hors d'oeuvres\, your favourite refreshments\, and the best low-cost/no-cost opportunity to connect to our area business community.\nAdmission is free and open to anyone from any business or organization that is a Member of the St. Thomas & District or Aylmer & Area Chamber of Commerce.
X-ALT-DESC;FMTTYPE=text/html:It's OUR Hospital!<div>It's THEIR Business After 5!</div><div>And we're extending a special invitation to the Members of the Aylmer &amp\; Area Chamber of Commerce to attend Business After 5 this month and make a big event even bigger.</div><div><br></div><div>UP ON THE ROOF!</div><div><span style="font-size: 10pt\;">Our sponsor\, the St. Thomas Elgin General Hospital Foundation\, is planning a special event that will showcase the great list of special events and community activities they are organizing in the coming months. Just follow the signs on arrival and they will take you to the large rooftop patio area\, adjacent to the south side of The Atrium.</span></div><div><br></div><div>Door prize draws\, complimentary hors d'oeuvres\, your favourite refreshments\, and the best low-cost/no-cost opportunity to connect to our area business community.</div><div><br></div><div>Admission is free and open to anyone from any business or organization that is a Member of the St. Thomas &amp\; District or Aylmer &amp\; Area Chamber of Commerce.</div><div><br></div><div><br></div>
LOCATION:St. Thomas Elgin General Hospital Foundation
UID:e.2614.954
SEQUENCE:3
DTSTAMP:20260420T074912Z
URL:http://www.www.stthomaschamber.on.ca/events/details/august-business-after-5-08-26-2015-954
END:VEVENT

END:VCALENDAR
