BEGIN:VCALENDAR
VERSION:2.0
PRODID:-//ChamberMaster//Event Calendar 2.0//EN
METHOD:PUBLISH
X-PUBLISHED-TTL:P3D
REFRESH-INTERVAL:P3D
CALSCALE:GREGORIAN
BEGIN:VEVENT
DTSTART:20130228T223000Z
DTEND:20130301T000000Z
X-MICROSOFT-CDO-ALLDAYEVENT:FALSE
SUMMARY:Business Mission & Tour to China Info Session #1
DESCRIPTION:Join us on a trip to China! \nOctober 23 - November 2\, 2013\nThe St. Thomas & District Chamber\, in partnership with our neighbours at the Strathroy & District Chamber\, will host and sponsor a Business Mission & Tour to China this fall.  The price is only $2499 (US) for Members. Others may join us at $2699 (US) per person.  The price includes return travel from Toronto's Pearson International Airport to Beijing\, premium 4 & 5-star hotel accommodation\, 3 meals each day\, deluxe bus tours\, entrance fees for attractions\, and all taxes.\nRegister for our free information session being held this Thursday February 28\, 5:30 to 7:00 p.m.\, at the Elgin Business Resource Centre\, 300 South Edgeware Road\, St. Thomas. Guest speaker will be Mr. Leo Liu\, President of Citslinc International Inc.\, our tour and travel supplier. Representatives from Elgin Travel & Cruises\, our exclusive local travel agent\, will attend as well.\nAdvance registration is required. Just call the Chamber office at 519-631-1981 before 2:00 p.m. this Thursday and speak with any staff member or send us an email: events@stthomaschamber.on.ca\nCan't make it this Thursday? Other Info Sessions will follow until our block of seats is sold. Trip info is also available anytime from Elgin Travel & Cruises in Elgin Mall\, St. Thomas.
X-ALT-DESC;FMTTYPE=text/html:<p><font size="5">Join us on a trip to <font color="#ff0030">China</font>! </font></p>\n<p><font size="5">October 23 - November 2\, 2013</font></p>\n<p>The St. Thomas &amp\; District Chamber\, in partnership with our neighbours at the Strathroy &amp\; District Chamber\,&nbsp\;will host and sponsor a Business Mission &amp\; Tour to China this fall.&nbsp\; The price is only $2499 (US) for Members. Others may join us at $2699 (US) per person.&nbsp\; The price includes return travel from Toronto's Pearson International Airport to Beijing\, premium 4 &amp\; 5-star hotel accommodation\, 3 meals each day\, deluxe bus tours\, entrance fees for attractions\, and all taxes.</p>\n<p>Register for our <strong>free</strong> information session being held this Thursday February 28\, 5:30 to 7:00 p.m.\,&nbsp\;at the Elgin Business Resource Centre\, 300 South Edgeware Road\, St. Thomas. Guest speaker will be Mr. Leo Liu\, President of Citslinc International Inc.\, our tour and travel supplier. Representatives from Elgin Travel &amp\; Cruises\, our exclusive local travel agent\, will attend as well.</p>\n<p>Advance registration is required. Just call the Chamber office at 519-631-1981 before 2:00 p.m. this Thursday and speak with any staff member or send us an email: <a href="mailto:events@stthomaschamber.on.ca">events@stthomaschamber.on.ca</a></p>\n<p>Can't make it this Thursday? Other Info Sessions will follow until our block of seats is sold. Trip info is also available anytime from Elgin Travel &amp\; Cruises in Elgin Mall\, St. Thomas.&nbsp\;</p>\n<p>&nbsp\;</p>
LOCATION:Elgin Business Resource Centre
UID:e.2614.882
SEQUENCE:3
DTSTAMP:20260423T204329Z
URL:http://www.www.stthomaschamber.on.ca/events/details/business-mission-tour-to-china-info-session-1-02-28-2013-882
END:VEVENT

END:VCALENDAR
