BEGIN:VCALENDAR
VERSION:2.0
PRODID:-//ChamberMaster//Event Calendar 2.0//EN
METHOD:PUBLISH
X-PUBLISHED-TTL:P3D
REFRESH-INTERVAL:P3D
CALSCALE:GREGORIAN
BEGIN:VEVENT
DTSTART:20141022T200000Z
DTEND:20141022T230000Z
X-MICROSOFT-CDO-ALLDAYEVENT:FALSE
SUMMARY:Business Sample Show 2014 / Business After 5
DESCRIPTION:It's part of our annual celebration of National Small Business Week.  The Business Sample Show returns to St. Anne's Centre and does double-duty as our October Business After 5 event.\nExhibitor enquiries and reservations are being welcomed now at the Chamber office.  We have capacity for up to 50 "table-top" exhibits. Exhibitor space pricing starts at just $150.\nMark the date and plan to be part of this popular annual event.
X-ALT-DESC;FMTTYPE=text/html:It's part of our annual celebration of National Small Business Week. &nbsp\;The Business Sample Show returns to St. Anne's Centre and does double-duty as our October Business After 5 event.<div><br></div><div>Exhibitor enquiries and reservations are being welcomed now at the Chamber office. &nbsp\;We have capacity for up to 50 "table-top" exhibits. Exhibitor space pricing starts at just $150.</div><div><br></div><div>Mark the date and plan to be part of this popular annual event.</div>
LOCATION:St. Anne's Centre
UID:e.2614.932
SEQUENCE:3
DTSTAMP:20260422T161432Z
URL:http://www.www.stthomaschamber.on.ca/events/details/business-sample-show-2014-business-after-5-10-22-2014-932
END:VEVENT

END:VCALENDAR
