BEGIN:VCALENDAR
VERSION:2.0
PRODID:-//ChamberMaster//Event Calendar 2.0//EN
METHOD:PUBLISH
X-PUBLISHED-TTL:P3D
REFRESH-INTERVAL:P3D
CALSCALE:GREGORIAN
BEGIN:VEVENT
DTSTART:20151125T200000Z
DTEND:20151126T000000Z
X-MICROSOFT-CDO-ALLDAYEVENT:FALSE
SUMMARY:Business & Trade Expo 2015
DESCRIPTION:From Regional Enterprise to Global Trade\nThe Chambers of Commerce across southern Ontario are hosting a trade show and expo that will be of value and interest to anyone doing business across our region\, across the country or around the globe.\nExhibitor registration is open now and being handled by the London Chamber of Commerce. 10' x 10' display booths are $395. Chamber Members save $100 - your price is just $295.\nNew this year: We're featuring keynote speakers and optional breakout sessions with global trade experts.Featured Keynote address by Kevin Howlett\, Senior VP at Air Canada.\nRetailers\, services\, trades\, professions\, manufacturers - this is southern Ontario's exclusive opportunity to connect and build business regionally and across borders.\nFor detailed information contact the London Chamber office by email to: julia@londonchamber.com\nThis event is sponsored jointly by the Chambers of Commerce in London\, St. Thomas\, Tillsonburg\, Woodstock\, Strathroy and Ingersoll.
X-ALT-DESC;FMTTYPE=text/html:<b><i>From Regional Enterprise to Global Trade</i></b><div><br></div><div>The Chambers of Commerce across southern Ontario are hosting a trade show and expo that will be of value and interest to anyone doing business across our region\, across the country or around the globe.</div><div><br></div><div>Exhibitor registration is open now and being handled by the London Chamber of Commerce. 10' x 10' display booths are $395. <i><b>Chamber Members save $100 - your price is just $295</b></i>.</div><div><br></div><div>New this year: We're featuring keynote speakers and optional breakout sessions with global trade experts.</div><div>Featured Keynote address by Kevin Howlett\, Senior VP at Air Canada.</div><div><br></div><div>Retailers\, services\, trades\, professions\, manufacturers - this is southern Ontario's exclusive opportunity to connect and build business regionally and across borders.</div><div><br></div><div>For detailed information contact the London Chamber office by email to: julia@londonchamber.com</div><div><br></div><div>This event is sponsored jointly by the Chambers of Commerce in London\, St. Thomas\, Tillsonburg\, Woodstock\, Strathroy and Ingersoll.</div>
LOCATION:Metroland Media Agriplex\, Western Fair District
UID:e.2614.963
SEQUENCE:3
DTSTAMP:20260420T023510Z
URL:http://www.www.stthomaschamber.on.ca/events/details/business-trade-expo-2015-11-25-2015-963
END:VEVENT

END:VCALENDAR
