BEGIN:VCALENDAR
VERSION:2.0
PRODID:-//ChamberMaster//Event Calendar 2.0//EN
METHOD:PUBLISH
X-PUBLISHED-TTL:P3D
REFRESH-INTERVAL:P3D
CALSCALE:GREGORIAN
BEGIN:VEVENT
DTSTART:20140415T213000Z
DTEND:20140415T230000Z
X-MICROSOFT-CDO-ALLDAYEVENT:FALSE
SUMMARY:China Tour - 2014 - Information Session #1
DESCRIPTION:Planning for the Chamber's exclusive 2014 tour to China has begun!We're holding a free info session April 15 at 5:30 p.m. at the Elgin Business Resource Centre with Mr. Leo Liu\, President of Citslinc International\, our tour supplier.\n\nLast fall's trip was an incredible success with 100% of our travellers reporting they would recommend the Chamber tour to their friends\, so we're offering another adventure this fall.  Our departure date will be Wednesday October 22 from Toronto on an 11-day journey.  Our return date is Saturday November 1.\nFor prices and the full itinerary just click here to view or download the details.\nPlease register in advance to attend this information session.  Light refreshments will be served. There is no charge to attend (as indicated below $0.00) but advance registration is required to confirm our seating and audio/visual needs.\nCall the Chamber at 519-631-1981 or send us an email to: mail@stthomaschamber.on.caElgin Travel in Elgin Mall\, our exclusive agent for the Chamber tour\, can also provide tour information at 519-633-6300.
X-ALT-DESC;FMTTYPE=text/html:<font size="4">Planning for the Chamber's exclusive 2014 tour to China has begun!</font><div><font size="4">We're holding a free info session April 15 at 5:30 p.m. at the Elgin Business Resource Centre with Mr. Leo Liu\, President of Citslinc International\, our tour supplier.<br></font><div style="font-size: 10pt\;"><br></div><div style="font-size: 10pt\;">Last fall's trip was an incredible success with 100% of our travellers reporting they would recommend the Chamber tour to their friends\, so we're offering another adventure this fall. &nbsp\;Our departure date will be Wednesday October 22 from Toronto on an 11-day journey. &nbsp\;Our return date is Saturday November 1.</div><div style="font-size: 10pt\;"><br></div><div style="font-size: 10pt\;">For prices and the full itinerary just <b><a href="http://stthomaschamber.on.ca/doc/China-Promo.pdf" target="_blank">click here</a></b> to view or download the details.</div></div><div style="font-size: 10pt\;"><br></div><div style="font-size: 10pt\;">Please register in advance to attend this information session. &nbsp\;Light refreshments will be served. There is no charge to attend (as indicated below $0.00) but advance registration is required to confirm our seating and audio/visual needs.</div><div style="font-size: 10pt\;"><br></div><div style="font-size: 10pt\;">Call the Chamber at 519-631-1981 or send us an email to: mail@stthomaschamber.on.ca</div><div style="font-size: 10pt\;">Elgin Travel in Elgin Mall\, our exclusive agent for the Chamber tour\, can also provide tour information at 519-633-6300.</div>
LOCATION:Elgin Business Resource Centre
UID:e.2614.923
SEQUENCE:3
DTSTAMP:20260423T005039Z
URL:http://www.www.stthomaschamber.on.ca/events/details/china-tour-2014-information-session-1-04-15-2014-923
END:VEVENT

END:VCALENDAR
