BEGIN:VCALENDAR
VERSION:2.0
PRODID:-//ChamberMaster//Event Calendar 2.0//EN
METHOD:PUBLISH
X-PUBLISHED-TTL:P3D
REFRESH-INTERVAL:P3D
CALSCALE:GREGORIAN
BEGIN:VEVENT
DTSTART:20160202T223000Z
DTEND:20160203T000000Z
X-MICROSOFT-CDO-ALLDAYEVENT:FALSE
SUMMARY:China Tour 2016 Information Session
DESCRIPTION:The St. Thomas & District Chamber of Commerce is hosting and organizing another trip to China this fall. It's an 11-day tour departing Toronto on Thursday September 29\, and returning Sunday October 9.For our fourth trip to this incredibly fascinating land we have added a new adventure to see the Terra-Cotta Warriors at Xi'an. We will fly non-stop from Toronto to Beijing\, then continue the journey to Xi'an\, Shanghai and Suzhou. Click here to view or download our trip itinerary and other details.For business development/exploration\, or purely for personal pleasure\, this tour is exceptional value. One price includes:roundtrip international and domestic airfare and all airport taxes\, fuel surcharges\, etc.4 and 5-star hotels3 meals each daydeluxe highway coach bus toursfluent English-speaking tour guidesentrance fees to attractionspriced in CANADIAN dollars at $2499 per person for Chamber MembersPlan now to attend our information session for presentations and pictures and more. Elgin Travel & Cruises in Elgin Mall is our authorized local agent for this Chamber tour\, Get additional details and information by contacting Ineke Palmer at their office\, 519-633-6300.
X-ALT-DESC;FMTTYPE=text/html:The St. Thomas &amp\; District Chamber of Commerce is hosting and organizing another trip to China this fall. It's an 11-day tour departing Toronto on Thursday September 29\, and returning Sunday October 9.<div>For our fourth trip to this incredibly fascinating land we have added a new adventure to see the Terra-Cotta Warriors at Xi'an. We will fly non-stop from Toronto to Beijing\, then continue the journey to Xi'an\, Shanghai and Suzhou. <a href="http://stthomaschamber.on.ca/doc/2016ChinaPromo.pdf" target="_blank"><b>Click here</b></a> to view or download our trip itinerary and other details.</div><div>For business development/exploration\, or purely for personal pleasure\, this tour is exceptional value. One price includes:</div><div><ul><li><span style="font-size: 10pt\;">roundtrip international and domestic airfare and all airport taxes\, fuel surcharges\, etc.</span></li><li><span style="font-size: 10pt\;">4 and 5-star hotels</span></li><li><span style="font-size: 10pt\;">3 meals each day</span></li><li><span style="font-size: 10pt\;">deluxe highway coach bus tours</span></li><li><span style="font-size: 10pt\;">fluent English-speaking tour guides</span></li><li><span style="font-size: 10pt\;">entrance fees to attractions</span></li><li><span style="font-size: 10pt\;">priced in CANADIAN dollars at $2499 per person for Chamber Members</span></li></ul></div><div>Plan now to attend our information session for presentations and pictures and more. Elgin Travel &amp\; Cruises in Elgin Mall is our authorized local agent for this Chamber tour\, Get additional details and information by contacting Ineke Palmer at their office\, 519-633-6300.</div>
LOCATION:St. Thomas Golf & Country Club
UID:e.2614.966
SEQUENCE:3
DTSTAMP:20260419T213252Z
URL:http://www.www.stthomaschamber.on.ca/events/details/china-tour-2016-information-session-02-02-2016-966
END:VEVENT

END:VCALENDAR
