BEGIN:VCALENDAR
VERSION:2.0
PRODID:-//ChamberMaster//Event Calendar 2.0//EN
METHOD:PUBLISH
X-PUBLISHED-TTL:P3D
REFRESH-INTERVAL:P3D
CALSCALE:GREGORIAN
BEGIN:VEVENT
DTSTART:20130507T230000Z
DTEND:20130508T003000Z
X-MICROSOFT-CDO-ALLDAYEVENT:FALSE
SUMMARY:China Tour Information Session #2
DESCRIPTION:We're Going To China - You Can\, Too!\nChamber President & CEO Bob Hammersley has returned from an 11-day tour of China\; exactly the same tour we're offering to our Members and our community this fall\, October 23 to November 2.\nOn Tuesday May 7\, Bob will present information based on his trip including pictures and comments on the tour itinerary and activities.\nAdmission to this Information Session is free\, but advance registration is a must. Call the Chamber office to reserve your seat(s) at 519-631-1981.\nThe St. Thomas & District Chamber\, in partnership with our neighbours at the Strathroy & District Chamber\, will host and sponsor this tour. The price is only $2499 (US) for Members. Others may join us at $2699 (US) per person.  The price includes return travel from Toronto's Pearson International Airport to Beijing\, premium 4 & 5-star hotel accommodation\, 3 meals each day\, deluxe bus tours\, entrance fees for attractions\, and all taxes.\nTour information is also available anytime from Elgin Travel & Cruises in Elgin Mall\, our exclusive local travel agent.
X-ALT-DESC;FMTTYPE=text/html:<p><font size="3" face="Verdana"><strong>We're Going To China - You Can\, Too!</strong></font></p>\n<p><font size="3" face="Verdana">Chamber President &amp\; CEO Bob Hammersley has returned from an 11-day tour of China\; exactly the same tour we're offering to our Members and our community this fall\, October 23 to November 2.</font></p>\n<p><font size="3" face="Verdana">On Tuesday May 7\, Bob will present information based on his trip including pictures and comments on the tour itinerary and activities.</font></p>\n<p><font size="3" face="Verdana">Admission to this Information Session is free\, but advance registration is a must. Call the Chamber office to reserve your seat(s) at 519-631-1981.</font></p>\n<p><font size="3" face="Verdana">The St. Thomas &amp\; District Chamber\, in partnership with our neighbours at the Strathroy &amp\; District Chamber\,&nbsp\;will host and sponsor this tour. The price is only $2499 (US) for Members. Others may join us at $2699 (US) per person.&nbsp\; The price includes return travel from Toronto's Pearson International Airport to Beijing\, premium 4 &amp\; 5-star hotel accommodation\, 3 meals each day\, deluxe bus tours\, entrance fees for attractions\, and all taxes.</font></p>\n<p><font size="3" face="Verdana">Tour information is also available anytime from Elgin Travel &amp\; Cruises in Elgin Mall\, our exclusive local travel agent.</font></p>
LOCATION:Elgin Business Resource Centre
UID:e.2614.896
SEQUENCE:3
DTSTAMP:20260423T161929Z
URL:http://www.www.stthomaschamber.on.ca/events/details/china-tour-information-session-2-05-07-2013-896
END:VEVENT

END:VCALENDAR
