BEGIN:VCALENDAR
VERSION:2.0
PRODID:-//ChamberMaster//Event Calendar 2.0//EN
METHOD:PUBLISH
X-PUBLISHED-TTL:P3D
REFRESH-INTERVAL:P3D
CALSCALE:GREGORIAN
BEGIN:VEVENT
DTSTART;VALUE=DATE:20160615
DTEND;VALUE=DATE:20160616
TRANSP:TRANSPARENT
X-MICROSOFT-CDO-ALLDAYEVENT:TRUE
SUMMARY:China Trip Booking Deadline
DESCRIPTION:Urgent Reminder!  Thursday June 16 is the final day to book into our upcoming China Adventure Tour. We leave October 5 and return October 15 but the booking deadline CANNOT be extended.\n\nFor tour details and our preliminary itinerary\, click here .
X-ALT-DESC;FMTTYPE=text/html:<strong>Urgent Reminder!</strong>&nbsp\; Thursday June 16 is the final day to book into our upcoming China Adventure Tour. We leave October 5 and return October 15 but the booking deadline CANNOT be extended.<br />\nFor tour details and our preliminary itinerary\, <a href="https://chambermaster.blob.core.windows.net/userfiles/UserFiles/chambers/2614/File/2016PromoGeneral.pdf">click here</a> .
LOCATION:Elgin Travel & Cruises\, in Elgin Mall\, is the Chamber's exclusive agent for our 2016 China Adventure. For all enquiries\, questions\, or to obtain a complete trip info package\, contact Group Specialist Ineke Palmer by calling 519-633-6300.
UID:e.2614.977
SEQUENCE:3
DTSTAMP:20260419T124813Z
URL:http://www.www.stthomaschamber.on.ca/events/details/china-trip-booking-deadline-06-15-2016-977
END:VEVENT

END:VCALENDAR
