BEGIN:VCALENDAR
VERSION:2.0
PRODID:-//ChamberMaster//Event Calendar 2.0//EN
METHOD:PUBLISH
X-PUBLISHED-TTL:P3D
REFRESH-INTERVAL:P3D
CALSCALE:GREGORIAN
BEGIN:VEVENT
DTSTART:20160414T213000Z
DTEND:20160414T230000Z
X-MICROSOFT-CDO-ALLDAYEVENT:FALSE
SUMMARY:China Trip Info Session
DESCRIPTION:If you're interested in our group adventure to China this fall\, don't miss our next tour info session. It's free to attend but please let us know you're coming. Our presentation will include pictures and details from our previous trips and representatives from our travel agent\, Elgin Travel & Cruises\, will be on-hand to answer questions and provide complete booking information.
X-ALT-DESC;FMTTYPE=text/html:If you&#39\;re interested in our group adventure to China this fall\, don&#39\;t miss our next tour info session. It&#39\;s free to attend but please let us know you&#39\;re coming. Our presentation will include pictures and details from our previous trips and representatives from our travel agent\, Elgin Travel &amp\; Cruises\, will be on-hand to answer questions and provide complete booking information.
LOCATION:St. Thomas Golf & Country Club\, 42325 Sparta Line Union\, ON N0L 2L0
UID:e.2614.972
SEQUENCE:3
DTSTAMP:20260419T175802Z
URL:http://www.www.stthomaschamber.on.ca/events/details/china-trip-info-session-04-14-2016-972
END:VEVENT

END:VCALENDAR
