BEGIN:VCALENDAR
VERSION:2.0
PRODID:-//ChamberMaster//Event Calendar 2.0//EN
METHOD:PUBLISH
X-PUBLISHED-TTL:P3D
REFRESH-INTERVAL:P3D
CALSCALE:GREGORIAN
BEGIN:VEVENT
DTSTART:20131030T160000Z
DTEND:20131030T170000Z
X-MICROSOFT-CDO-ALLDAYEVENT:FALSE
SUMMARY:Closing The Loop - Setting Up a Health & Safety System In Your Small Business
DESCRIPTION:REGISTRATION FOR THIS SESSION IS NOW CLOSED.SPACE IS STILL AVAILABLE FOR THE NOVEMBER 1 EVENT - same agenda!\n"Closing The Loop" is a Lunch 'n Learn program designed to assist any small business to build a Health & Safety Program in six easy steps\, including information to assess any existing program. If you need to understand your obligations to meet regulatory health and safety requirements\, this session is for you.\nThis event - and another with the same agenda this Friday - is presented by the St. Thomas & District Chamber of Commerce in co-operation with WSPS (Workplace Safety and Prevention Services).\nCost:  $15.00 per person + $1.95 HST\, TOTAL $16.95\nAdvance registration is required via email to the Chamber: mail@stthomaschamber.on.ca
X-ALT-DESC;FMTTYPE=text/html:<div><font color="#ff0000">REGISTRATION FOR THIS SESSION IS NOW CLOSED.</font></div><div><font color="#ff0000">SPACE IS STILL AVAILABLE FOR THE NOVEMBER 1 EVENT - same agenda!</font></div><div><br></div>"Closing The Loop" is a Lunch 'n Learn program designed to assist any small business to build a Health &amp\; Safety Program in six easy steps\, including information to assess any existing program. If you need to understand your obligations to meet regulatory health and safety requirements\, this session is for you.<div><br></div><div>This event - and another with the same agenda this Friday - is presented by the St. Thomas &amp\; District Chamber of Commerce in co-operation with WSPS (Workplace Safety and Prevention Services).</div><div><br></div><div>Cost: &nbsp\;$15.00 per person + $1.95 HST\, TOTAL $16.95</div><div><br></div><div>Advance registration is required via email to the Chamber: mail@stthomaschamber.on.ca&nbsp\;</div>
LOCATION:Elgin Business Resource Centre
UID:e.2614.909
SEQUENCE:3
DTSTAMP:20260423T093357Z
URL:http://www.www.stthomaschamber.on.ca/events/details/closing-the-loop-setting-up-a-health-safety-system-in-your-small-business-10-30-2013-909
END:VEVENT

END:VCALENDAR
