BEGIN:VCALENDAR
VERSION:2.0
PRODID:-//ChamberMaster//Event Calendar 2.0//EN
METHOD:PUBLISH
X-PUBLISHED-TTL:P3D
REFRESH-INTERVAL:P3D
CALSCALE:GREGORIAN
BEGIN:VEVENT
DTSTART:20141114T130000Z
DTEND:20141114T153000Z
X-MICROSOFT-CDO-ALLDAYEVENT:FALSE
SUMMARY:Community Workforce Planning Meeting
DESCRIPTION:Are you an employer with interests and concerns about our local workforce on issues like skills\, training and availability?  The St. Thomas & District Chamber of Commerce is one of several community agencies and services engaged in workforce development & planning. Together\, we're organizing a planning and consultation workshop on Friday November 14.It's free to attend for any St. Thomas & District employer or HR professional\, thanks to sponsor support but ADVANCE REGISTRATION IS REQUIRED.The program begins with a hot breakfast\, then participants will be asked to break into workshop groups.  The outcome will be a collection of concerns and issues that will assist our work to have a strong Workforce Development Strategy for Elgin & St. Thomas.\nRegister to attend by contacting Justin Dias:  justin@workforcedevelopment.ca
X-ALT-DESC;FMTTYPE=text/html:Are you an employer with interests and concerns about our local workforce on issues like skills\, training and availability? &nbsp\;<div>The St. Thomas &amp\; District Chamber of Commerce is one of several community agencies and services engaged in workforce development &amp\; planning. Together\, we're organizing a planning and consultation workshop on Friday November 14.</div><div>It's free to attend for any St. Thomas &amp\; District employer or HR professional\, thanks to sponsor support but <b>ADVANCE REGISTRATION IS REQUIRED.</b></div><div>The program begins with a hot breakfast\, then participants will be asked to break into workshop groups. &nbsp\;The outcome will be a collection of concerns and issues that will assist our work to have a strong Workforce Development Strategy for Elgin &amp\; St. Thomas.</div><div><br></div><div>Register to attend by contacting Justin Dias: &nbsp\;<i><b>justin@workforcedevelopment.ca</b></i></div>
LOCATION:Keystone Complex
UID:e.2614.939
SEQUENCE:3
DTSTAMP:20260422T153500Z
URL:http://www.www.stthomaschamber.on.ca/events/details/community-workforce-planning-meeting-11-14-2014-939
END:VEVENT

END:VCALENDAR
