BEGIN:VCALENDAR
VERSION:2.0
PRODID:-//ChamberMaster//Event Calendar 2.0//EN
METHOD:PUBLISH
X-PUBLISHED-TTL:P3D
REFRESH-INTERVAL:P3D
CALSCALE:GREGORIAN
BEGIN:VEVENT
DTSTART:20151203T000000Z
DTEND:20151203T020000Z
X-MICROSOFT-CDO-ALLDAYEVENT:FALSE
SUMMARY:December Business After 5
DESCRIPTION:Community Spirit and The Spirit of the Holidays come together in a very special edition of the Chamber's monthly Business After 5 series this month.\n\nThanks to the Elgin Business Resource Centre (EBRC) and the Small Business Enterprise Centre (SBEC)\, we have invited 20 new St. Thomas & District start-up businesses to join us and set-up table displays promoting themselves at this event. They will be joined by our main event sponsors: HollisWealth / Action Financial\, Wayside Dining & Catering\, Reith & Associates\, St. Anne's Centre\, and Cellular Magician.\n\nIt's a Community Spirit/Holiday Spirit event to bring people\, businesses and organizations together. \n\nCome join us and meet new friends while you enjoy the company of long-time community partners and associates.\n\nAs always\, admission to Business After 5 is free and we will offer plenty of great door prizes\, tasty hors d'oeuvres and your favourite beverages.\n\nIt's all about Spirit. It's all about Community.\n\nPlease plan to attend.
X-ALT-DESC;FMTTYPE=text/html:<div style="font-size: 13.3333px\;">Community Spirit and The Spirit of the Holidays come together in a very special edition of the Chamber&#39\;s monthly Business After 5 series this month.</div>\n\n<div style="font-size: 13.3333px\;">Thanks to the Elgin Business Resource Centre (EBRC) and the Small Business Enterprise Centre (SBEC)\, we have invited 20 new St. Thomas &amp\; District start-up businesses to join us and set-up table displays promoting themselves at this event. They will be joined by our main event sponsors: HollisWealth / Action Financial\, Wayside Dining &amp\; Catering\, Reith &amp\; Associates\, St. Anne&#39\;s Centre\, and Cellular Magician.</div>\n\n<div style="font-size: 13.3333px\;">It&#39\;s a Community Spirit/Holiday Spirit event to bring people\, businesses and organizations together.&nbsp\;</div>\n\n<div style="font-size: 13.3333px\;">Come join us and meet new friends while you enjoy the company of long-time community partners and associates.</div>\n\n<div style="font-size: 13.3333px\;">As always\, admission to Business After 5 is free and we will offer plenty of great door prizes\, tasty hors d&#39\;oeuvres and your favourite beverages.</div>\n\n<div style="font-size: 13.3333px\;">It&#39\;s all about Spirit. It&#39\;s all about Community.</div>\n\n<div style="font-size: 13.3333px\;">Please plan to attend.</div>\n
LOCATION:St. Anne's Centre
UID:e.2614.960
SEQUENCE:3
DTSTAMP:20260420T004606Z
URL:http://www.www.stthomaschamber.on.ca/events/details/december-business-after-5-12-02-2015-960
END:VEVENT

END:VCALENDAR
