BEGIN:VCALENDAR
VERSION:2.0
PRODID:-//ChamberMaster//Event Calendar 2.0//EN
METHOD:PUBLISH
X-PUBLISHED-TTL:P3D
REFRESH-INTERVAL:P3D
CALSCALE:GREGORIAN
BEGIN:VEVENT
DTSTART:20141203T220000Z
DTEND:20141204T000000Z
X-MICROSOFT-CDO-ALLDAYEVENT:FALSE
SUMMARY:December Business After 5
DESCRIPTION:The Chamber's annual pre-Christmas Business After 5 is a lot less about business and a lot more about the spirit of the Holidays.Great door prizes\, plenty of tasty treats to sample and\, as always\, your favourite refreshments. It's the best way to stay in-touch with your business neighbours and share some seasonal cheer.Additional details on sponsors\, door prizes and more will be posted here in the coming weeks as soon as they are confirmed.
X-ALT-DESC;FMTTYPE=text/html:The Chamber's annual pre-Christmas Business After 5 is a lot less about business and a lot more about the spirit of the Holidays.<div>Great door prizes\, plenty of tasty treats to sample and\, as always\, your favourite refreshments. It's the best way to stay in-touch with your business neighbours and share some seasonal cheer.</div><div>Additional details on sponsors\, door prizes and more will be posted here in the coming weeks as soon as they are confirmed.</div>
LOCATION:St. Anne's Centre
UID:e.2614.934
SEQUENCE:3
DTSTAMP:20260422T135601Z
URL:http://www.www.stthomaschamber.on.ca/events/details/december-business-after-5-12-03-2014-934
END:VEVENT

END:VCALENDAR
