BEGIN:VCALENDAR
VERSION:2.0
PRODID:-//ChamberMaster//Event Calendar 2.0//EN
METHOD:PUBLISH
X-PUBLISHED-TTL:P3D
REFRESH-INTERVAL:P3D
CALSCALE:GREGORIAN
BEGIN:VEVENT
DTSTART:20131204T220000Z
DTEND:20131205T000000Z
X-MICROSOFT-CDO-ALLDAYEVENT:FALSE
SUMMARY:December Business After 5
DESCRIPTION:December's Business After 5 is a seasonal celebration that brings an open invitation to our Members to meet in a festive environment filled with good cheer!  Warm\, friendly\, fun... and free!  Enjoy your favourite refreshments\, sample some seasonal snacks and hors d'oeuvres\, and connect or re-connect with your business neighbours\, friends and associates.\nAdmission is open and free to all employees of any business or organization that is a Member of the St. Thomas & District Chamber of Commerce.  December's Business After 5 is an ideal opportunity to say MERRY CHRISTMAS\, HAPPY NEW YEAR and BEST OF THE SEASON!\nPlease join us!
X-ALT-DESC;FMTTYPE=text/html:December's Business After 5 is a seasonal celebration that brings an open invitation to our Members to meet in a festive environment filled with good cheer! &nbsp\;Warm\, friendly\, fun... and free! &nbsp\;Enjoy your favourite refreshments\, sample some seasonal snacks and hors d'oeuvres\, and connect or re-connect with your business neighbours\, friends and associates.<div><br></div><div>Admission is open and free to all employees of any business or organization that is a Member of the St. Thomas &amp\; District Chamber of Commerce. &nbsp\;December's Business After 5 is an ideal opportunity to say MERRY CHRISTMAS\, HAPPY NEW YEAR and BEST OF THE SEASON!</div><div><br></div><div>Please join us!</div>
LOCATION:St. Anne's Centre
UID:e.2614.907
SEQUENCE:3
DTSTAMP:20260423T063347Z
URL:http://www.www.stthomaschamber.on.ca/events/details/december-business-after-5-12-04-2013-907
END:VEVENT

END:VCALENDAR
