BEGIN:VCALENDAR
VERSION:2.0
PRODID:-//ChamberMaster//Event Calendar 2.0//EN
METHOD:PUBLISH
X-PUBLISHED-TTL:P3D
REFRESH-INTERVAL:P3D
CALSCALE:GREGORIAN
BEGIN:VEVENT
DTSTART:20130131T150000Z
DTEND:20130131T210000Z
X-MICROSOFT-CDO-ALLDAYEVENT:FALSE
SUMMARY:E-Business Seminar
DESCRIPTION:E-marketing and effective social media strategies are business essentials that we can never stop learning about.Trainer & Strategist Melissa Schenk returns for a special full-day session to help businesses of all sizes and types build or improve your E-marketing strategy. For those who heard Melissa speak last November at the Bridges to Better Business event\, this full-day program will take your business development strategy to the next level.  If you missed it\, no problem. At just $50 to attend (with lunch included) this is a high-value opportunity for businesses and individuals at a variety of skill/experience levels. Bonus: the first 60 people to register get a complimentary copy of MS2 Productions' E-marketing training DVD series.The St. Thomas & District Chamber of Commerce is pleased to support and sponsor this event\, in co-operation with the City of St. Thomas\, County of Elgin\, the Government of Ontario\, Libro Financial and MS2 Productions. The primary organizer of this event is the Elgin Business Resource Centre. Click here to register\,or for additional information\, contact Wes Bailey at the EBRC offices at 519-633-7597\, Extension 328 or email wbailey@elgincfdc.ca
X-ALT-DESC;FMTTYPE=text/html:<p><font size="3">E-marketing and effective social media strategies are business essentials that we can never stop learning about.</font></p><p><font size="3">Trainer &amp\; Strategist Melissa Schenk returns for a special full-day session to help businesses of all sizes and types build or improve your E-marketing strategy. For those who heard Melissa speak last November at the Bridges to Better Business event\, this full-day program will take your business development strategy to the next level.&nbsp\; If you missed it\, no problem. At just $50 to attend (with lunch included) this is a high-value opportunity for businesses and individuals at a variety of skill/experience levels. Bonus: the first 60 people to register get a complimentary copy of MS2 Productions' E-marketing training DVD series.</font></p><p><font size="3">The St. Thomas &amp\; District Chamber of Commerce is pleased to support and sponsor this event\, in co-operation with the City of St. Thomas\, County of Elgin\, the Government of Ontario\, Libro Financial and MS2 Productions. The primary organizer of this event is the Elgin Business Resource Centre. <a href="http://www.elginbusinessresourcecentre.com/wp-content/uploads/2013/01/E-business-Registration-Form-2013.pdf">C<font size="3">lick here <font size="3">t</font></font>o register</a>\,or for additional information\, contact Wes Bailey at the EBRC offices at 519-633-7597\, Extension 328 or email </font><a href="mailto:wbailey@elgincfdc.ca"><font size="3">wbailey@elgincfdc.ca</font></a></p>
LOCATION:St. Thomas Seniors' Centre
UID:e.2614.879
SEQUENCE:3
DTSTAMP:20260423T221408Z
URL:http://www.www.stthomaschamber.on.ca/events/details/e-business-seminar-01-31-2013-879
END:VEVENT

END:VCALENDAR
