BEGIN:VCALENDAR
VERSION:2.0
PRODID:-//ChamberMaster//Event Calendar 2.0//EN
METHOD:PUBLISH
X-PUBLISHED-TTL:P3D
REFRESH-INTERVAL:P3D
CALSCALE:GREGORIAN
BEGIN:VEVENT
DTSTART:20140130T140000Z
DTEND:20140130T210000Z
X-MICROSOFT-CDO-ALLDAYEVENT:FALSE
SUMMARY:E-Commerce Sales Solutions\, Moving Your Business Forward
DESCRIPTION:The St. Thomas & District Chamber of Commerce and the\nElgin Business Resource Centre join to present a full-day seminar designed to\nimprove your business' bottom line! \nWe will welcome expert presenter/trainer Syd Bolton as our leader for\nthe day in an information packed agenda covering topics such as:\n Creating the right\ne-commerce website to meet your unique business needs \nPayment Solutions -\nUnderstanding your options for electronic payment \nLeveraging Social\nMedia for Business\nTips for Search\nEngine Optimization   \n Reserved seating only and advance registration is required.  $25 per person (lunch\nincluded) + HST.  The program runs Thursday January 30\, 2014 from 9:00\na.m. to 4:00 p.m. at the St. Thomas Seniors Recreation Centre\, 225 Chestnut Street. \n To register\, use link: http://ecommercesalessolutions.eventbrite.ca  or contact Sharen Symondson at the Elgin Business Resource Centre by calling 519-633-7597 Extension 324 or email her directly at ssymondson@elgincfdc.ca\n\n Event Agenda:\n 09:00-09:30 Registration\n 09:30-10:00-Introductions\n\n10:00-11:00  E-Commerce 101 - Building an e-commerce website vs. using an\nexisting one\, finding the right solution for the size of your business\n\n11:00-11:15  Break\n\n11:15-12:00  Payment Solutions - Understanding your options for electronic\npayment\, cost vs. risk\, benefits for your business\n\n12:00-01:00  Lunch\n\n01:00-02:00  Leveraging Social Media for Business: Understanding\nelectronic coupons\, QR codes\, and promotional ideas\n\n02:00-02:15  Break\n\n02:15-03:00  Tips for Search Engine Optimization - Once you've built it\,\nmake sure they can find you\n\n3:00  - 3:30  Wrap up\n\n3:30 –4:00  Networking
X-ALT-DESC;FMTTYPE=text/html:<p></p><p>\n\n</p><p style="text-align:center\;" align="center"><span style="font-size:11.0pt\;font-family:&quot\;Arial&quot\;\,&quot\;sans-serif&quot\;\;&quot\;"></span></p><p style="text-align:center\;" align="center"><span style="font-size:11.0pt\;font-family:&quot\;Arial&quot\;\,&quot\;sans-serif&quot\;\;&quot\;">\n\n</span></p><p>The St. Thomas &amp\; District Chamber of Commerce and the\nElgin Business Resource Centre join to present a full-day seminar designed to<b>\nimprove your business' bottom line</b><span style="font-size:10.5pt\;color:#505050\;">!</span> <br></p><p>We will welcome expert presenter/trainer Syd Bolton as our leader for\nthe day in an information packed agenda covering topics such as:<span style="font-size:11.0pt\;font-family:Symbol\;" lang="EN-US"><span><span style="font:7.0pt &quot\;&quot\;"><br></span></span></span></p><ul><li><span style="font-size:11.0pt\;font-family:Symbol\;" lang="EN-US"><span><span style="font:7.0pt &quot\;&quot\;"> </span></span></span><span style="font-size:11.0pt\;\nfont-family:&quot\;Arial&quot\;\,&quot\;sans-serif&quot\;\;" lang="EN-US">Creating the right\ne-commerce website to meet your unique business needs</span><span style="font-size:11.0pt\;font-family:Symbol\;" lang="EN-US"><span><span style="font:7.0pt &quot\;&quot\;"> </span></span></span><span style="font-size:11.0pt\;\nfont-family:&quot\;Arial&quot\;\,&quot\;sans-serif&quot\;\;" lang="EN-US"><br></span></li><li><span style="font-size:11.0pt\;\nfont-family:&quot\;Arial&quot\;\,&quot\;sans-serif&quot\;\;" lang="EN-US">Payment Solutions -\nUnderstanding your options for electronic payment</span><span style="font-size:11.0pt\;font-family:Symbol\;" lang="EN-US"><span><span style="font:7.0pt &quot\;&quot\;"> </span></span></span><span style="font-size:11.0pt\;\nfont-family:&quot\;Arial&quot\;\,&quot\;sans-serif&quot\;\;" lang="EN-US"><br></span></li><li><span style="font-size:11.0pt\;\nfont-family:&quot\;Arial&quot\;\,&quot\;sans-serif&quot\;\;" lang="EN-US">Leveraging Social\nMedia for Business</span><span style="font-size:11.0pt\;\nfont-family:&quot\;Arial&quot\;\,&quot\;sans-serif&quot\;\;" lang="EN-US"><br></span></li><li><span style="font-size:11.0pt\;\nfont-family:&quot\;Arial&quot\;\,&quot\;sans-serif&quot\;\;" lang="EN-US">Tips for Search\nEngine Optimization</span>&nbsp\; <span style="font-size:11.0pt\;font-family:&quot\;Arial&quot\;\,&quot\;sans-serif&quot\;\;" lang="EN-US"></span><span style="font-size:11.0pt\;font-family:&quot\;Arial&quot\;\,&quot\;sans-serif&quot\;\;&quot\;"></span> <br></li></ul><p align="justify">&nbsp\;</p><p align="justify">Reserved seating only and advance registration is required. &nbsp\;$25 per person (lunch\nincluded) + HST. &nbsp\;The program runs Thursday January 30\, 2014 from 9:00\na.m. to 4:00 p.m. at the St. Thomas Seniors Recreation Centre\, 225 Chestnut Street. <span style="font-size: 10pt\; font-family: Arial\, sans-serif\;"></span></p><p align="justify"><span style="font-size: 10pt\; font-family: Arial\, sans-serif\;"><br></span></p><p align="justify"><span style="font-size: 10pt\; font-family: Arial\, sans-serif\;">&nbsp\;To register\, use link: <a href="http://ecommercesalessolutions.eventbrite.ca" target="_blank">http://ecommercesalessolutions.eventbrite.ca</a> &nbsp\;or contact Sharen Symondson at the Elgin Business Resource Centre by calling 519-633-7597 Extension 324 or email her directly at </span><a href="mailto:ssymondson@elgincfdc.ca" target="_blank" style="font-size: 10pt\;"><span style="font-family: Arial\, sans-serif\;">ssymondson@elgincfdc.ca</span></a></p><p style="font-size: 10pt\;"><span style="font-size:12.0pt\;font-family:&quot\;Arial&quot\;\,&quot\;sans-serif&quot\;"></span></p>\n\n<p align="justify"><i><span style="font-size:12.0pt\;font-family:&quot\;Arial&quot\;\,&quot\;sans-serif&quot\;">&nbsp\;Event Agenda:</span></i></p><p align="justify"><br></p><p align="justify">&nbsp\;09:00-09:30 Registration</p><p align="justify"><br></p><p align="justify"><span lang="EN-US">&nbsp\;09:30-10:00-Introductions<br>\n10:00-11:00 &nbsp\;E-Commerce 101 - Building an e-commerce website vs. using an\nexisting one\, finding the right solution for the size of your business<br>\n11:00-11:15 &nbsp\;Break<br>\n11:15-12:00 &nbsp\;Payment Solutions - Understanding your options for electronic\npayment\, cost vs. risk\, benefits for your business<br>\n12:00-01:00 &nbsp\;Lunch<br>\n01:00-02:00 &nbsp\;Leveraging Social Media for Business: Understanding\nelectronic coupons\, QR codes\, and promotional ideas<br>\n02:00-02:15 &nbsp\;Break<br>\n02:15-03:00 &nbsp\;Tips for Search Engine Optimization - Once you've built it\,\nmake sure they can find you<br>\n3:00&nbsp\; - 3:30&nbsp\; Wrap up</span></p>\n\n<p align="justify"><span lang="EN-US">3:30 –4:00&nbsp\; Networking<span style="color:#1F497D"></span></span></p>\n\n<p><span style="font-size:12.0pt\;font-family:\n&quot\;Comic Sans MS&quot\;\;color:#1F497D\;" lang="EN-US">&nbsp\;</span><br>\n\n</p><p></p>
LOCATION:St. Thomas Seniors' Centre
UID:e.2614.914
SEQUENCE:3
DTSTAMP:20260423T051124Z
URL:http://www.www.stthomaschamber.on.ca/events/details/e-commerce-sales-solutions-moving-your-business-forward-01-30-2014-914
END:VEVENT

END:VCALENDAR
