BEGIN:VCALENDAR
VERSION:2.0
PRODID:-//ChamberMaster//Event Calendar 2.0//EN
METHOD:PUBLISH
X-PUBLISHED-TTL:P3D
REFRESH-INTERVAL:P3D
CALSCALE:GREGORIAN
BEGIN:VEVENT
DTSTART:20100424T150000Z
DTEND:20100424T210000Z
X-MICROSOFT-CDO-ALLDAYEVENT:FALSE
SUMMARY:Elgin-St.Thomas Business Expo
DESCRIPTION:
X-ALT-DESC;FMTTYPE=text/html:
LOCATION:
UID:e.2614.53
SEQUENCE:3
DTSTAMP:20260426T043710Z
URL:http://www.www.stthomaschamber.on.ca/events/details/elgin-st-thomas-business-expo-04-24-2010-53
END:VEVENT

END:VCALENDAR
