BEGIN:VCALENDAR
VERSION:2.0
PRODID:-//ChamberMaster//Event Calendar 2.0//EN
METHOD:PUBLISH
X-PUBLISHED-TTL:P3D
REFRESH-INTERVAL:P3D
CALSCALE:GREGORIAN
BEGIN:VEVENT
DTSTART:20150930T193000Z
DTEND:20150930T210000Z
X-MICROSOFT-CDO-ALLDAYEVENT:FALSE
SUMMARY:Executive Briefing - Canadian Centre for Product Validation
DESCRIPTION:An Open Invitation to our MembersFanshawe College is in the process of constructing a 20\,000 square-foot facility to house the Canadian Centre for Product Validation. Its purpose is to assist the private sector in bringing new products to market by providing local validation and testing facilities.Dr. John Makaran\, Director of the Centre\, will be providing an Executive Briefing at Fanshawe's St. Thomas Elgin Regional Campus on Wednesday September 30 at 3:30 p.m.Attendance is limited to 50 people and open/free of charge to Members of the St. Thomas & District Chamber of Commerce. To confirm your attendance\, please call Debra Burgess at 519-633-2030 Extension 223\, or email directly at: dburgess@fanshawec.caThis event takes places immediately before the Chamber's monthly Business After 5\, also being held at the Campus.
X-ALT-DESC;FMTTYPE=text/html:<div><i><b>An Open Invitation to our Members</b></i></div>Fanshawe College is in the process of constructing a 20\,000 square-foot facility to house the Canadian Centre for Product Validation. Its purpose is to assist the private sector in bringing new products to market by providing local validation and testing facilities.<div>Dr. John Makaran\, Director of the Centre\, will be providing an Executive Briefing at Fanshawe's St. Thomas Elgin Regional Campus on Wednesday September 30 at 3:30 p.m.</div><div>Attendance is limited to 50 people and open/free of charge to Members of the St. Thomas &amp\; District Chamber of Commerce. To confirm your attendance\, please call Debra Burgess at 519-633-2030 Extension 223\, or email directly at: dburgess@fanshawec.ca</div><div>This event takes places immediately before the Chamber's monthly Business After 5\, also being held at the Campus.</div>
LOCATION:Fanshawe College
UID:e.2614.961
SEQUENCE:3
DTSTAMP:20260420T055939Z
URL:http://www.www.stthomaschamber.on.ca/events/details/executive-briefing-canadian-centre-for-product-validation-09-30-2015-961
END:VEVENT

END:VCALENDAR
