BEGIN:VCALENDAR
VERSION:2.0
PRODID:-//ChamberMaster//Event Calendar 2.0//EN
METHOD:PUBLISH
X-PUBLISHED-TTL:P3D
REFRESH-INTERVAL:P3D
CALSCALE:GREGORIAN
BEGIN:VEVENT
DTSTART:20121017T200000Z
DTEND:20121017T230000Z
X-MICROSOFT-CDO-ALLDAYEVENT:FALSE
SUMMARY:Exhibitor Registration - 12th Business Sample Show
DESCRIPTION:This page is for any Members who wish to purchase a table at the 12th Annual Business Sample Show.\nAgain this year\, we're marking National Small Business Week with a special function that is open to all Members and our entire community.\n\nImagine showcasing your business's products or services to over 600 people in just 4 hours!  This is a fantastic opportunity\, and one that shouldn't be missed.  Exhibitors can purchase spaces within St. Anne's Centre\, and promote their business by handing out samples\, or special offers. \n\nBook an 8 foot table (or the equivalent space) for the show\, either on the floor or on the raised outer section of the Centre. Hydro must be requested prior to the Show. A limited amount of outlets are available to prevent power problems.\nWhen completing your registration online\, you will be prompted to select a method of payment. Please be aware that payment in advance by credit card is appreciated but not required.
X-ALT-DESC;FMTTYPE=text/html:<P><SPAN style="FONT-STYLE: italic">This page is for any Members who wish to purchase a table at the 12th Annual&nbsp\;Business Sample Show.</SPAN></P>\n<P>Again this year\, we're marking National Small Business Week with a special function that is open to all Members and our entire community.<BR></P>\n<P>Imagine showcasing your business's products or services to over 600 people in just 4 hours!&nbsp\; This is a fantastic opportunity\, and one that shouldn't be missed.&nbsp\; Exhibitors can purchase spaces within St. Anne's Centre\, and promote their business by handing out samples\, or special offers. <BR></P>\n<P>Book an 8 foot table (or the equivalent space) for the show\, either on the floor or on the raised outer section of the Centre. Hydro must be requested prior to the Show. A limited amount of outlets are available to prevent power problems.</P>\n<P>When completing your registration online\, you will be prompted to select a method of payment. Please be aware that payment in advance by credit card is appreciated but not required.</P>\n<P><BR></P>
LOCATION:St. Anne's Centre
UID:e.2614.869
SEQUENCE:3
DTSTAMP:20260424T030028Z
URL:http://www.www.stthomaschamber.on.ca/events/details/exhibitor-registration-12th-business-sample-show-10-17-2012-869
END:VEVENT

END:VCALENDAR
