BEGIN:VCALENDAR
VERSION:2.0
PRODID:-//ChamberMaster//Event Calendar 2.0//EN
METHOD:PUBLISH
X-PUBLISHED-TTL:P3D
REFRESH-INTERVAL:P3D
CALSCALE:GREGORIAN
BEGIN:VEVENT
DTSTART:20140205T220000Z
DTEND:20140206T000000Z
X-MICROSOFT-CDO-ALLDAYEVENT:FALSE
SUMMARY:February Business After 5
DESCRIPTION:February's Business After 5 returns to Boston Pizza\, co-sponsored by ARC Financial!  Jeff Crossett and the team from ARC Financial have merged with Bedford Financial to become the new and exclusive agents locally for national Chambers of Commerce Group Insurance Program. The Chamber Plan is the largest and most popular choice in group benefits for small business across Canada.  And Boston Pizza is our favourite choice for great pizza\, refreshments and a friendly\, warm and entertaining Business After 5.As always\, admission is free of charge and open to anyone from any business or organization that is a current Member of the St. Thomas & District Chamber of Commerce.  Doors open at 5:00 p.m.  Arrive at your convenience and mix/mingle until approximately 6:15 p.m. when we host brief presentations from our sponsors\, followed by door prize draws with some exceptional and exciting prizes.Complimentary hors d'oeuvres and your favourite refreshments\, combined with the best opportunity in our region to connect with your business neighbours\, make Business After 5 one of the best no-cost/low-cost marketing advantages in our region.Please join us.Be Seen.  Be Heard.  BELONG!  And don't forget your business cards for our door prize draws.
X-ALT-DESC;FMTTYPE=text/html:<p>February's <em>Business After 5</em>&nbsp\;returns to Boston Pizza\, co-sponsored by ARC Financial! &nbsp\;</p><p>Jeff Crossett and the team from ARC Financial have merged with Bedford Financial to become the new and exclusive agents locally for national Chambers of Commerce Group Insurance Program. The Chamber Plan is the largest and most popular choice in group benefits for small business across Canada. &nbsp\;And Boston Pizza is our favourite choice for great pizza\, refreshments and a friendly\, warm and entertaining Business After 5.</p><p>As always\, admission is free of charge and open to anyone from any business or organization that is a current Member of the St. Thomas &amp\; District Chamber of Commerce.&nbsp\; </p><p>Doors open at 5:00 p.m.&nbsp\; Arrive at your convenience and mix/mingle until approximately 6:15 p.m. when we host brief presentations from our sponsors\, followed by door prize draws with some exceptional and exciting prizes.</p><p>Complimentary hors d'oeuvres and your favourite refreshments\, combined with the best opportunity in our region to connect with your business neighbours\, make Business After 5 one of the best no-cost/low-cost marketing advantages in our region.</p><p>Please join us.</p><p><strong><em>Be Seen.&nbsp\; Be Heard.&nbsp\; BELONG! &nbsp\;And don't forget your business cards for our door prize draws.&nbsp\;</em></strong></p>
LOCATION:
UID:e.2614.875
SEQUENCE:3
DTSTAMP:20260423T033757Z
URL:http://www.www.stthomaschamber.on.ca/events/details/february-business-after-5-02-05-2014-875
END:VEVENT

END:VCALENDAR
