BEGIN:VCALENDAR
VERSION:2.0
PRODID:-//ChamberMaster//Event Calendar 2.0//EN
METHOD:PUBLISH
X-PUBLISHED-TTL:P3D
REFRESH-INTERVAL:P3D
CALSCALE:GREGORIAN
BEGIN:VEVENT
DTSTART:20160210T220000Z
DTEND:20160211T000000Z
X-MICROSOFT-CDO-ALLDAYEVENT:FALSE
SUMMARY:February Business After 5
DESCRIPTION:Just as Valentine's Day approaches\, we're approaching another Business After 5 at Boston Pizza\, with the new TownePlace Suites by Marriott as our co-sponsor.The staff at Boston Pizza will welcome us with smiles and incredible food\, plus your favourite beverages. Lynn Walker\, Director of Sales at the new TownePlace Suites by Marriott\, and her team\, will add great door prizes and more to showcase their new hotel site on Exeter Road and demonstrate how and why it's an ideal location for St. Thomas & District people hosting guests for business or pleasure. As always\, admission to Business After 5 is free\, and open to anyone from any business or organization that is a Member of the St. Thomas & District Chamber.Come for the connections. Stay for the food and fun.
X-ALT-DESC;FMTTYPE=text/html:Just as Valentine's Day approaches\, we're approaching another Business After 5 at Boston Pizza\, with the new TownePlace Suites by Marriott as our co-sponsor.<div>The staff at Boston Pizza will welcome us with smiles and incredible food\, plus your favourite beverages. Lynn Walker\, Director of Sales at the new TownePlace Suites by Marriott\, and her team\, will add great door prizes and more to showcase their new hotel site on Exeter Road and demonstrate how and why it's an ideal location for St. Thomas &amp\; District people hosting guests for business or pleasure.&nbsp\;</div><div>As always\, admission to Business After 5 is free\, and open to anyone from any business or organization that is a Member of the St. Thomas &amp\; District Chamber.</div><div>Come for the connections. Stay for the food and fun.</div><div><br></div>
LOCATION:Boston Pizza
UID:e.2614.968
SEQUENCE:3
DTSTAMP:20260419T213157Z
URL:http://www.www.stthomaschamber.on.ca/events/details/february-business-after-5-02-10-2016-968
END:VEVENT

END:VCALENDAR
