BEGIN:VCALENDAR
VERSION:2.0
PRODID:-//ChamberMaster//Event Calendar 2.0//EN
METHOD:PUBLISH
X-PUBLISHED-TTL:P3D
REFRESH-INTERVAL:P3D
CALSCALE:GREGORIAN
BEGIN:VEVENT
DTSTART:20150211T220000Z
DTEND:20150212T000000Z
X-MICROSOFT-CDO-ALLDAYEVENT:FALSE
SUMMARY:February Business After 5
DESCRIPTION:Boston Pizza teams-up with the St. Thomas Soccer Club to host and sponsor our February edition of Business After 5.The food and the fun will be plentiful thanks to our co-sponsors\, and we're promising an interesting and rewarding event with great door prizes and more.As always\, admission to Business After 5 is free and open to anyone from any business or organization that is a Member of the St. Thomas & District Chamber of Commerce.
X-ALT-DESC;FMTTYPE=text/html:Boston Pizza teams-up with the St. Thomas Soccer Club to host and sponsor our February edition of Business After 5.<div>The food and the fun will be plentiful thanks to our co-sponsors\, and we're promising an interesting and rewarding event with great door prizes and more.</div><div>As always\, admission to Business After 5 is free and open to anyone from any business or organization that is a Member of the St. Thomas &amp\; District Chamber of Commerce.</div>
LOCATION:Boston Pizza
UID:e.2614.941
SEQUENCE:3
DTSTAMP:20260422T110658Z
URL:http://www.www.stthomaschamber.on.ca/events/details/february-business-after-5-02-11-2015-941
END:VEVENT

END:VCALENDAR
