BEGIN:VCALENDAR
VERSION:2.0
PRODID:-//ChamberMaster//Event Calendar 2.0//EN
METHOD:PUBLISH
X-PUBLISHED-TTL:P3D
REFRESH-INTERVAL:P3D
CALSCALE:GREGORIAN
BEGIN:VEVENT
DTSTART;VALUE=DATE:20160519
DTEND;VALUE=DATE:20160520
TRANSP:TRANSPARENT
X-MICROSOFT-CDO-ALLDAYEVENT:TRUE
SUMMARY:Free Document Shredding Day
DESCRIPTION:In celebration of Police Week\, the St. Thomas Police\, Elgin Business Resource Centre and the St. Thomas & District Chamber of Commerce are offering a FREE document shredding day. Have your old\, unneeded documents shredded safely.
X-ALT-DESC;FMTTYPE=text/html:In celebration of Police Week\, the St. Thomas Police\, Elgin Business Resource Centre and the St. Thomas &amp\; District Chamber of Commerce are offering a FREE document shredding day. Have your old\, unneeded documents shredded safely.
LOCATION:Elgin Resource Business Centre & the St. Thomas & District Chamber of Commerce 300 South Edgeware Road\, St. Thomas
UID:e.2614.978
SEQUENCE:3
DTSTAMP:20260419T162720Z
URL:http://www.www.stthomaschamber.on.ca/events/details/free-document-shredding-day-05-19-2016-978
END:VEVENT

END:VCALENDAR
