BEGIN:VCALENDAR
VERSION:2.0
PRODID:-//ChamberMaster//Event Calendar 2.0//EN
METHOD:PUBLISH
X-PUBLISHED-TTL:P3D
REFRESH-INTERVAL:P3D
CALSCALE:GREGORIAN
BEGIN:VEVENT
DTSTART:20100502T170000Z
DTEND:20100502T200000Z
X-MICROSOFT-CDO-ALLDAYEVENT:FALSE
SUMMARY:In Good Taste
DESCRIPTION:
X-ALT-DESC;FMTTYPE=text/html:
LOCATION:
UID:e.2614.52
SEQUENCE:3
DTSTAMP:20260426T025133Z
URL:http://www.www.stthomaschamber.on.ca/events/details/in-good-taste-05-02-2010-52
END:VEVENT

END:VCALENDAR
