BEGIN:VCALENDAR
VERSION:2.0
PRODID:-//ChamberMaster//Event Calendar 2.0//EN
METHOD:PUBLISH
X-PUBLISHED-TTL:P3D
REFRESH-INTERVAL:P3D
CALSCALE:GREGORIAN
BEGIN:VEVENT
DTSTART:20160113T220000Z
DTEND:20160114T000000Z
X-MICROSOFT-CDO-ALLDAYEVENT:FALSE
SUMMARY:January Business After 5
DESCRIPTION:Our first Business After 5 of the new year will be sponsored and hosted by The Talbot Teen Centre to promote awareness of their programs and activities\, and to promote use of the premises as a site for a wide range of community and/or business events.\nGREAT DOOR PRIZE: Our main door prize draw this month will be VIA Rail train tickets for two\, valid anywhere in the Windsor - Quebec corridor.\nFood service this month will take an interesting dimension. Under the supervision of Catering By James Meadows\, all food served to our guests this month will be prepared in the afternoon prior to our arrival by TTC teens.  As always\, your favourite beverage will be available\, too.\nStart the new year making connections with your business neighbours.  Admission is free an open to everyone and anyone from any business or organization that is a Member of the St. Thomas & District Chamber of Commerce.
X-ALT-DESC;FMTTYPE=text/html:Our first Business After 5 of the new year will be sponsored and hosted by The Talbot Teen Centre to promote awareness of their programs and activities\, and to promote use of the premises as a site for a wide range of community and/or business events.<div><br></div><div>GREAT DOOR PRIZE: Our main door prize draw this month will be VIA Rail train tickets for two\, valid anywhere in the Windsor - Quebec corridor.</div><div><br></div><div>Food service this month will take an interesting dimension. Under the supervision of Catering By James Meadows\, all food served to our guests this month will be prepared in the afternoon prior to our arrival by TTC teens. &nbsp\;As always\, your favourite beverage will be available\, too.</div><div><br></div><div>Start the new year making connections with your business neighbours. &nbsp\;Admission is free an open to everyone and anyone from any business or organization that is a Member of the St. Thomas &amp\; District Chamber of Commerce.</div>
LOCATION:Talbot Teen Centre
UID:e.2614.964
SEQUENCE:3
DTSTAMP:20260419T231812Z
URL:http://www.www.stthomaschamber.on.ca/events/details/january-business-after-5-01-13-2016-964
END:VEVENT

END:VCALENDAR
