BEGIN:VCALENDAR
VERSION:2.0
PRODID:-//ChamberMaster//Event Calendar 2.0//EN
METHOD:PUBLISH
X-PUBLISHED-TTL:P3D
REFRESH-INTERVAL:P3D
CALSCALE:GREGORIAN
BEGIN:VEVENT
DTSTART:20150114T220000Z
DTEND:20150115T000000Z
X-MICROSOFT-CDO-ALLDAYEVENT:FALSE
SUMMARY:January Business After 5
DESCRIPTION:Jackpot City sponsors the Chamber's first Business After 5 event of 2015!The Jackpot City Gaming Entertainment site at 140 Edward Street in St. Thomas has been fully renovated and expanded\, and offers great "diner-style" food with fun gaming and entertainment options 7 days-a-week.On-site parking\, complimentary hors d'oeuvres\, your favourite refreshments and some fantastic door prize giveaways will make this a not-to-be-missed way to kick-off the Chamber's 2015 events calendar.Our Main Door Prize Draw This Month:  a new Apple 64 gigabyte iPad valued at $750!!\nAs always\, admission to Business After 5 is free for anyone and everyone from the businesses and organizations that are Members of the St. Thomas & District Chamber.
X-ALT-DESC;FMTTYPE=text/html:Jackpot City sponsors the Chamber's first Business After 5 event of 2015!<div>The Jackpot City Gaming Entertainment site at 140 Edward Street in St. Thomas has been fully renovated and expanded\, and offers great "diner-style" food with fun gaming and entertainment options 7 days-a-week.</div><div>On-site parking\, complimentary hors d'oeuvres\, your favourite refreshments and some fantastic door prize giveaways will make this a not-to-be-missed way to kick-off the Chamber's 2015 events calendar.</div><div><b>Our Main Door Prize Draw This Month: &nbsp\;a new Apple 64 gigabyte iPad valued at $750!!</b></div><div><br></div><div>As always\, admission to Business After 5 is free for anyone and everyone from the businesses and organizations that are Members of the St. Thomas &amp\; District Chamber.</div>
LOCATION:Jackpot City
UID:e.2614.940
SEQUENCE:3
DTSTAMP:20260422T122554Z
URL:http://www.www.stthomaschamber.on.ca/events/details/january-business-after-5-01-14-2015-940
END:VEVENT

END:VCALENDAR
