BEGIN:VCALENDAR
VERSION:2.0
PRODID:-//ChamberMaster//Event Calendar 2.0//EN
METHOD:PUBLISH
X-PUBLISHED-TTL:P3D
REFRESH-INTERVAL:P3D
CALSCALE:GREGORIAN
BEGIN:VEVENT
DTSTART:20140115T220000Z
DTEND:20140116T000000Z
X-MICROSOFT-CDO-ALLDAYEVENT:FALSE
SUMMARY:January Business After 5
DESCRIPTION:Our first Business After 5 of 2014 sees the North America Railway Hall of Fame sponsor our event in the historic CASO (Canada Southern) Railway Station.Please join us in this amazing and beautiful location.As always\, we promise tasty hors d'oeuvres\, your favourite refreshments\, and the best opportunity in our region to stay in-touch with your business neighbours and our community.  Door prizes\, too.Special Note:  Please bring your business card(s) for entry in our door prize draw!
X-ALT-DESC;FMTTYPE=text/html:<p>Our first Business After 5 of 2014 sees the North America Railway Hall of Fame sponsor our event in the historic CASO (Canada Southern) Railway Station.</p><p>Please join us in this amazing and beautiful location.</p><p>As always\, we promise tasty hors d'oeuvres\, your favourite refreshments\, and the best opportunity in our region to stay in-touch with your business neighbours and our community. &nbsp\;Door prizes\, too.</p><p><i><b>Special Note:</b></i> &nbsp\;Please bring your business card(s) for entry in our door prize draw!</p>
LOCATION:CASO Railway Station
UID:e.2614.874
SEQUENCE:3
DTSTAMP:20260423T051309Z
URL:http://www.www.stthomaschamber.on.ca/events/details/january-business-after-5-01-15-2014-874
END:VEVENT

END:VCALENDAR
