BEGIN:VCALENDAR
VERSION:2.0
PRODID:-//ChamberMaster//Event Calendar 2.0//EN
METHOD:PUBLISH
X-PUBLISHED-TTL:P3D
REFRESH-INTERVAL:P3D
CALSCALE:GREGORIAN
BEGIN:VEVENT
DTSTART:20150715T210000Z
DTEND:20150715T230000Z
X-MICROSOFT-CDO-ALLDAYEVENT:FALSE
SUMMARY:July Business After 5
DESCRIPTION:Central Community Health Centre sponsors our July edition of Business After 5 with a special event at St. Anne's Centre on Morrison Drive.  Business After 5 this month will showcase the services of the CCHC\, and some of their local partners\, to give employers and local businesses/organizations information that's useful and valuable for current needs and looking ahead to tomorrow.\nAs always\, admission to Business After 5 is free and open to anyone and everyone from any business or organization that is a Member of the St. Thomas & District Chamber of Commerce.\nComplimentary hors d'oeuvres\, your favourite refreshments\, and the best low-cost/no-cost opportunity to be #StThomasProud and stay connected to your business neighbours and our community.
X-ALT-DESC;FMTTYPE=text/html:Central Community Health Centre sponsors our July edition of Business After 5 with a special event at St. Anne's Centre on Morrison Drive. &nbsp\;Business After 5 this month will showcase the services of the CCHC\, and some of their local partners\, to give employers and local businesses/organizations information that's useful and valuable for current needs and looking ahead to tomorrow.<div><br></div><div>As always\, admission to Business After 5 is free and open to anyone and everyone from any business or organization that is a Member of the St. Thomas &amp\; District Chamber of Commerce.</div><div><br></div><div>Complimentary hors d'oeuvres\, your favourite refreshments\, and the best low-cost/no-cost opportunity to be #StThomasProud and stay connected to your business neighbours and our community.</div>
LOCATION:St. Anne's Centre
UID:e.2614.953
SEQUENCE:3
DTSTAMP:20260420T094341Z
URL:http://www.www.stthomaschamber.on.ca/events/details/july-business-after-5-07-15-2015-953
END:VEVENT

END:VCALENDAR
