BEGIN:VCALENDAR
VERSION:2.0
PRODID:-//ChamberMaster//Event Calendar 2.0//EN
METHOD:PUBLISH
X-PUBLISHED-TTL:P3D
REFRESH-INTERVAL:P3D
CALSCALE:GREGORIAN
BEGIN:VEVENT
DTSTART:20140716T210000Z
DTEND:20140716T230000Z
X-MICROSOFT-CDO-ALLDAYEVENT:FALSE
SUMMARY:July Business After 5
DESCRIPTION:130 years of service - 1884 to 2014!The St. Thomas Public Library marks their 130th anniversary by sponsoring and hosting our July edition of Business After 5.Join us for great door prizes\, complimentary hors d'oeuvres and your favourite refreshments as the library staff and volunteers say THANKS to the business community for 130 years of support.  You could win a new iPad (value $400)\, one of 2 Kobo e-readers (value $75 each)\, or prize packages that include 4 day passes to the Iron Horse Festival (value $100).The library has a long and proud history of community service and support to our community\, and promises to mark their 130th anniversary with a memorable and enjoyable event for everyone.Admission to Business After 5 is free and open to anyone and everyone from a business or organization that is a Member of the St. Thomas & District Chamber of Commerce.Business After 5 is your best low cost / no cost way to stay in-touch with your business neighbours and our community. Please plan to attend!
X-ALT-DESC;FMTTYPE=text/html:<b><i>130 years of service - 1884 to 2014!</i></b><div>The St. Thomas Public Library marks their 130th anniversary by sponsoring and hosting our July edition of Business After 5.</div><div>Join us for great door prizes\, complimentary hors d'oeuvres and your favourite refreshments as the library staff and volunteers say THANKS to the business community for 130 years of support. &nbsp\;</div><div>You could win a new iPad (value $400)\, one of 2 Kobo e-readers (value $75 each)\, or prize packages that include 4 day passes to the Iron Horse Festival (value $100).</div><div>The library has a long and proud history of community service and support to our community\, and promises to mark their 130th anniversary with a memorable and enjoyable event for everyone.</div><div>Admission to Business After 5 is free and open to anyone and everyone from a business or organization that is a Member of the St. Thomas &amp\; District Chamber of Commerce.</div><div>Business After 5 is your best low cost / no cost way to stay in-touch with your business neighbours and our community. Please plan to attend!</div>
LOCATION:St. Thomas Public Library
UID:e.2614.927
SEQUENCE:3
DTSTAMP:20260422T202518Z
URL:http://www.www.stthomaschamber.on.ca/events/details/july-business-after-5-07-16-2014-927
END:VEVENT

END:VCALENDAR
