BEGIN:VCALENDAR
VERSION:2.0
PRODID:-//ChamberMaster//Event Calendar 2.0//EN
METHOD:PUBLISH
X-PUBLISHED-TTL:P3D
REFRESH-INTERVAL:P3D
CALSCALE:GREGORIAN
BEGIN:VEVENT
DTSTART:20150610T210000Z
DTEND:20150610T230000Z
X-MICROSOFT-CDO-ALLDAYEVENT:FALSE
SUMMARY:June Business After 5
DESCRIPTION:Silverthorn Landscape Supplies will be our host site and sponsor for Business After 5 this June.\nTheir indoor/outdoor setting is a perfect showcase for all kinds of landscape and property ideas\, and the staff at Silverthorn promise an enjoyable event.\nCome for the experience\, and mix and mingle with your business neighbours.\nAs always\, admission to Business After 5 is free and open to everyone from any business or organization that is a Member of the St. Thomas & District Chamber of Commerce.
X-ALT-DESC;FMTTYPE=text/html:Silverthorn Landscape Supplies will be our host site and sponsor for Business After 5 this June.<div><br></div><div>Their indoor/outdoor setting is a perfect showcase for all kinds of landscape and property ideas\, and the staff at Silverthorn promise an enjoyable event.</div><div><br></div><div>Come for the experience\, and mix and mingle with your business neighbours.</div><div><br></div><div>As always\, admission to Business After 5 is free and open to everyone from any business or organization that is a Member of the St. Thomas &amp\; District Chamber of Commerce.</div>
LOCATION:Silverthorn Landscape Supplies
UID:e.2614.951
SEQUENCE:3
DTSTAMP:20260420T111204Z
URL:http://www.www.stthomaschamber.on.ca/events/details/june-business-after-5-06-10-2015-951
END:VEVENT

END:VCALENDAR
