BEGIN:VCALENDAR
VERSION:2.0
PRODID:-//ChamberMaster//Event Calendar 2.0//EN
METHOD:PUBLISH
X-PUBLISHED-TTL:P3D
REFRESH-INTERVAL:P3D
CALSCALE:GREGORIAN
BEGIN:VEVENT
DTSTART:20130611T111500Z
DTEND:20130611T124500Z
X-MICROSOFT-CDO-ALLDAYEVENT:FALSE
SUMMARY:Legal Series #3 ''Going To Court'' The Basics of Small Claims Court with Sandra Di Meo of Ferguson DiMeo Lawyers
DESCRIPTION:The third of 5 weekly breakfast info sessions\, this event features lawyer Sandra Dimeo of Ferguson Dimeo Lawyers with an informative presentation for the business community on The Basics of Small Claims Court. Topics to be covered range from the ABC's of starting a Small Claims Court action\, what do you do if you have been served with a claim\, timelines and procedures of the Small Claims Court and how to collect on a judgement.   \n\nUnderstand how you can use "Small Claims Court" to resolve your financial & legal disputes faster.        \n\nAdmission by advance registration only. This session\, and all others in our weekly series\, costs $25 and includes a full hot/cold breakfast buffet.
X-ALT-DESC;FMTTYPE=text/html:<P>The third of 5 weekly breakfast info sessions\, this event features lawyer Sandra Dimeo of Ferguson Dimeo Lawyers with an informative presentation for the business community on The Basics of Small Claims Court. Topics to be covered range from the ABC's of starting a Small Claims Court action\, what do you do if you have been served with a claim\, timelines and procedures of the Small Claims Court and how to collect on a judgement.&nbsp\;&nbsp\; <BR></P>\n<P>Understand how you can use "Small Claims Court" to resolve your financial &amp\; legal disputes faster.&nbsp\; &nbsp\; &nbsp\; &nbsp\; <BR></P>\n<P>Admission by advance registration only. This session\, and all others in our weekly series\, costs $25 and includes a full hot/cold breakfast buffet. </P>
LOCATION:Wayside Dining Lounge
UID:e.2614.892
SEQUENCE:3
DTSTAMP:20260423T145811Z
URL:http://www.www.stthomaschamber.on.ca/events/details/legal-series-3-going-to-court-the-basics-of-small-claims-court-with-sandra-di-meo-of-ferguson-dimeo-lawyers-06-11-2013-892
END:VEVENT

END:VCALENDAR
