BEGIN:VCALENDAR
VERSION:2.0
PRODID:-//ChamberMaster//Event Calendar 2.0//EN
METHOD:PUBLISH
X-PUBLISHED-TTL:P3D
REFRESH-INTERVAL:P3D
CALSCALE:GREGORIAN
BEGIN:VEVENT
DTSTART:20130618T111500Z
DTEND:20130618T124500Z
X-MICROSOFT-CDO-ALLDAYEVENT:FALSE
SUMMARY:Legal Series #4 The Ins & Outs of Business Law with Hilary Vaughan - Barrister\, Solicitor and Mediator
DESCRIPTION:The fourth of 5 weekly breakfast info sessions\, this event features lawyer Hilary Vaughan of Hilary J. Vaughan Barrister\, Solicitor and Mediator with an informative presentation for the business community on "The Ins & Outs of Business Law. Some of the topics to be covered are Proprietorship\, Partnerships\, the Incorporation process and Asset & Share Purchases.\n\nIf you own a business or are thinking of becoming a business owner this information will prove invaluable!\n\nAdmission by advance registration only. This session\, and all others in our weekly series\, costs $25 and includes a full hot/cold breakfast buffet.
X-ALT-DESC;FMTTYPE=text/html:<DIV align=left>\n<P>The fourth of 5 weekly breakfast info sessions\, this event features lawyer Hilary Vaughan of Hilary J. Vaughan Barrister\, Solicitor and Mediator with an informative presentation for the business community on "The Ins &amp\; Outs of Business Law. Some of the topics to be covered are Proprietorship\, Partnerships\, the Incorporation process and Asset &amp\; Share Purchases.<BR></P>\n<P>If you own a business or are thinking of becoming a business owner this information will prove invaluable!<BR></P>\n<P>Admission by advance registration only. This session\, and all others in our weekly series\, costs $25 and includes a full hot/cold breakfast buffet. <FONT size=3><B><FONT size=3><FONT size=3></FONT></FONT></B></FONT></P></DIV>
LOCATION:Wayside Dining Lounge
UID:e.2614.893
SEQUENCE:3
DTSTAMP:20260423T150631Z
URL:http://www.www.stthomaschamber.on.ca/events/details/legal-series-4-the-ins-outs-of-business-law-with-hilary-vaughan-barrister-solicitor-and-mediator-06-18-2013-893
END:VEVENT

END:VCALENDAR
