BEGIN:VCALENDAR
VERSION:2.0
PRODID:-//ChamberMaster//Event Calendar 2.0//EN
METHOD:PUBLISH
X-PUBLISHED-TTL:P3D
REFRESH-INTERVAL:P3D
CALSCALE:GREGORIAN
BEGIN:VEVENT
DTSTART:20130625T114500Z
DTEND:20130625T124500Z
X-MICROSOFT-CDO-ALLDAYEVENT:FALSE
SUMMARY:Legal Series #5 Commercial Real Estate from a St. Thomas Perspective with Alice J. Burgess & Lane E. Walker
DESCRIPTION:This is the fifth in a series of five breakfast information sessions. Our event features lawyers Alice J. Burgess and Lane E. Walker of Bowsher & Bowsher with an informative presentation for the business community on Commercial Real Estate from a St Thomas Perspective. Some of the topics to be covered are "Due Diligence-have I asked the right questions?"\, "Analyzing Trends to Discover Value"\, "Commercial Real Estate & Tenants -What are your responsibilities?"\n\nWhether you are a buyer or seller\, this session will help you stay informed on the constantly evolving commercial real estate sector from a St. Thomas perspective.\n\nAdmission by advance registration only. This session costs $25 and includes a full hot/cold breakfast buffet.
X-ALT-DESC;FMTTYPE=text/html:<FONT face=Verdana>This is the fifth in a series of five breakfast information sessions. Our&nbsp\;event features lawyers Alice J. Burgess and Lane E. Walker of Bowsher &amp\; Bowsher with an informative presentation for the business community on Commercial Real Estate from a St Thomas Perspective. Some of the topics to be covered are "Due Diligence-have I asked the right questions?"\, "Analyzing Trends to Discover Value"\, "Commercial Real Estate &amp\; Tenants -What are your responsibilities?"<BR><BR>Whether you are a buyer or seller\, this session will help you&nbsp\;stay informed on the constantly evolving commercial real estate sector from a St. Thomas perspective.<BR><BR></FONT><FONT face=Verdana>Admission by advance registration only. This session costs $25 and includes a full hot/cold breakfast buffet. </FONT>
LOCATION:Wayside Dining Lounge
UID:e.2614.894
SEQUENCE:3
DTSTAMP:20260423T150218Z
URL:http://www.www.stthomaschamber.on.ca/events/details/legal-series-5-commercial-real-estate-from-a-st-thomas-perspective-with-alice-j-burgess-lane-e-walker-06-25-2013-894
END:VEVENT

END:VCALENDAR
