BEGIN:VCALENDAR
VERSION:2.0
PRODID:-//ChamberMaster//Event Calendar 2.0//EN
METHOD:PUBLISH
X-PUBLISHED-TTL:P3D
REFRESH-INTERVAL:P3D
CALSCALE:GREGORIAN
BEGIN:VEVENT
DTSTART:20140625T160000Z
DTEND:20140625T173000Z
X-MICROSOFT-CDO-ALLDAYEVENT:FALSE
SUMMARY:Lunch & Learn: 'Learning the Benefits of Digital Marketing'
DESCRIPTION:Consumers are increasingly looking to digital tools to find the products and services they need in their neighbourhood.  In this context\, local merchants must make sure that they are visible enough in their customers' digital world to maximize their chances of success.Join the St. Thomas Chamber of Commerce and Michael O'Grady of the Yellow Pages Group to learn how to create an effective digital strategy that is tailored to your business.Bistro style lunch is included.\n\nAttend this Lunch & Learn and you can enter to win a \nMicrosoft Surface Tablet!
X-ALT-DESC;FMTTYPE=text/html:<p>Consumers are increasingly looking to digital tools to find the products and services they need in their neighbourhood.&nbsp\; In this context\, local merchants must make sure that they are visible enough in their customers' digital world to maximize their chances of success.</p><p>Join the St. Thomas Chamber of Commerce and Michael O'Grady of the Yellow Pages Group&nbsp\;to learn how to create an effective digital strategy that is tailored to your&nbsp\;business.</p><p>Bistro style lunch is included.</p><p><br></p><p><br></p><p align="center"><strong><font color="#006060" size="3">Attend this Lunch&nbsp\;&amp\; Learn and you can enter to win a <br>Microsoft Surface Tablet!</font></strong></p>
LOCATION:St.Thomas and District Chamber of Commerce
UID:e.2614.928
SEQUENCE:3
DTSTAMP:20260422T215239Z
URL:http://www.www.stthomaschamber.on.ca/events/details/lunch-learn-learning-the-benefits-of-digital-marketing-06-25-2014-928
END:VEVENT

END:VCALENDAR
