BEGIN:VCALENDAR
VERSION:2.0
PRODID:-//ChamberMaster//Event Calendar 2.0//EN
METHOD:PUBLISH
X-PUBLISHED-TTL:P3D
REFRESH-INTERVAL:P3D
CALSCALE:GREGORIAN
BEGIN:VEVENT
DTSTART:20131112T121500Z
DTEND:20131112T140000Z
X-MICROSOFT-CDO-ALLDAYEVENT:FALSE
SUMMARY:Making Sales - How To Compete in a Competitive Global Export Market
DESCRIPTION:In co-operation with the St. Thomas Economic Development Corporation\, the Chamber hosts a special & informative breakfast meeting for exporters looking to build sales and/or gain information about Export Development Canada's ARI (Accounts Receivable Insurance) program.Our presentation will be led by Cameron (Cam) Ellis\, Senior Account Manager with Export Development Canada and Johanna Franz\, Account Manager\, of Export Development's London office.Admission to this event is FREE for any local businesses\, especially manufacturers and distributors\, that are engaged in exporting or exploring export opportunities.Breakfast is included but advance registration is a must.  Register via email to the Chamber office at: mail@stthomaschamber.on.ca**SORRY - Registration for this event is now closed.  If you have a reserved seat:Doors open at 7:15 a.m.  Program begins at 7:30 a.m.
X-ALT-DESC;FMTTYPE=text/html:In co-operation with the St. Thomas Economic Development Corporation\, the Chamber hosts a special &amp\; informative breakfast meeting for exporters looking to build sales and/or gain information about Export Development Canada's ARI (Accounts Receivable Insurance) program.<div>Our presentation will be led by Cameron (Cam) Ellis\, Senior Account Manager with Export Development Canada and Johanna Franz\, Account Manager\, of Export Development's London office.</div><div>Admission to this event is FREE for any local businesses\, especially manufacturers and distributors\, that are engaged in exporting or exploring export opportunities.</div><div>Breakfast is included but advance registration is a must. &nbsp\;</div><div>Register via email to the Chamber office at: mail@stthomaschamber.on.ca</div><div><font color="#ff0030">**SORRY - Registration for this event is now closed. &nbsp\;If you have a reserved seat:</font></div><div>Doors open at 7:15 a.m. &nbsp\;Program begins at 7:30 a.m.</div>
LOCATION:Elgin Business Resource Centre
UID:e.2614.908
SEQUENCE:3
DTSTAMP:20260423T081014Z
URL:http://www.www.stthomaschamber.on.ca/events/details/making-sales-how-to-compete-in-a-competitive-global-export-market-11-12-2013-908
END:VEVENT

END:VCALENDAR
