BEGIN:VCALENDAR
VERSION:2.0
PRODID:-//ChamberMaster//Event Calendar 2.0//EN
METHOD:PUBLISH
X-PUBLISHED-TTL:P3D
REFRESH-INTERVAL:P3D
CALSCALE:GREGORIAN
BEGIN:VEVENT
DTSTART:20150311T210000Z
DTEND:20150311T230000Z
X-MICROSOFT-CDO-ALLDAYEVENT:FALSE
SUMMARY:March Business After 5
DESCRIPTION:Let's plan to mark winter's end and do it in our annual pre-St. Patrick's Day fashion as the St. Thomas Golf & Country Club hosts and sponsors the March edition of our monthly Business After 5 series.\nAdmission to Business After 5 is free\, and open to all management and staff of every business and organization that is a Member of the St. Thomas & District Chamber of Commerce.\nComplimentary hors d'oeuvres\, your favourite refreshments and some exceptionally nice door prizes.
X-ALT-DESC;FMTTYPE=text/html:Let's plan to mark winter's end and do it in our annual pre-St. Patrick's Day fashion as the St. Thomas Golf &amp\; Country Club hosts and sponsors the March edition of our monthly Business After 5 series.<div><br></div><div>Admission to Business After 5 is free\, and open to all management and staff of every business and organization that is a Member of the St. Thomas &amp\; District Chamber of Commerce.</div><div><br></div><div>Complimentary hors d'oeuvres\, your favourite refreshments and some exceptionally nice door prizes.</div>
LOCATION:St. Thomas Golf & Country Club
UID:e.2614.942
SEQUENCE:3
DTSTAMP:20260422T093600Z
URL:http://www.www.stthomaschamber.on.ca/events/details/march-business-after-5-03-11-2015-942
END:VEVENT

END:VCALENDAR
