BEGIN:VCALENDAR
VERSION:2.0
PRODID:-//ChamberMaster//Event Calendar 2.0//EN
METHOD:PUBLISH
X-PUBLISHED-TTL:P3D
REFRESH-INTERVAL:P3D
CALSCALE:GREGORIAN
BEGIN:VEVENT
DTSTART:20140312T210000Z
DTEND:20140312T230000Z
X-MICROSOFT-CDO-ALLDAYEVENT:FALSE
SUMMARY:March Business After 5
DESCRIPTION:We're still scheduled to hold today's event as planned\, despite the weather.  In the event of any last minutes changes\, we will update this post as well as the Chamber's Facebook & Twitter accounts. Please join us tonite and take a break... we all deserve it!!\nOur March edition of Business After 5 always takes St. Patrick's Day into consideration\, and this year will be no exception.  Please join us and sample the hospitality and beautiful setting that is the St. Thomas Golf & Country Club.  The Club will be both our sponsor and host this month!\nExceptional hot & cold hors d'oeuvres and your favourite beverage will be accompanied by great door prize offerings and the best chance in our community to connect with your business neighbours and associates.This month's door prizes include:  Four rounds of golf (value $500)\; 2 rounds of golf with a PGA pro (Value $200)\; dinner for 4 (value $150)\; golf apparel (priceless!)\; a golf lesson with a PGA pro (value $50)\; and one dozen golf balls (value $50).\nAs always\, admission to Business After 5 is free and open to anyone from any business or organization that is a Member of the St. Thomas & District Chamber of Commerce.Be Seen.  Be Heard. Belong.   ... and please be with us on March 12!
X-ALT-DESC;FMTTYPE=text/html:<div><font color="#ff0000"><b>We're still scheduled to hold today's event as planned\, despite the weather. &nbsp\;In the event of any last minutes changes\, we will update this post as well as the Chamber's Facebook &amp\; Twitter accounts. Please join us tonite and take a break... we all deserve it!!</b></font></div><div><br></div>Our March edition of Business After 5 always takes St. Patrick's Day into consideration\, and this year will be no exception. &nbsp\;Please join us and sample the hospitality and beautiful setting that is the St. Thomas Golf &amp\; Country Club. &nbsp\;The Club will be both our sponsor and host this month!<div><br></div><div>Exceptional hot &amp\; cold hors d'oeuvres and your favourite beverage will be accompanied by great door prize offerings and the best chance in our community to connect with your business neighbours and associates.</div><div>This month's door prizes include: &nbsp\;Four rounds of golf (value $500)\; 2 rounds of golf with a PGA pro (Value $200)\; dinner for 4 (value $150)\; golf apparel (priceless!)\; a golf lesson with a PGA pro (value $50)\; and one dozen golf balls (value $50).</div><div><br></div><div>As always\, admission to Business After 5 is free and open to anyone from any business or organization that is a Member of the St. Thomas &amp\; District Chamber of Commerce.</div><div><span style="font-size: 10pt\;">Be Seen. &nbsp\;Be Heard. Belong. &nbsp\; ... and please be with us on March 12!</span></div>
LOCATION:St.Thomas Golf & Country Club
UID:e.2614.919
SEQUENCE:3
DTSTAMP:20260423T020736Z
URL:http://www.www.stthomaschamber.on.ca/events/details/march-business-after-5-03-12-2014-919
END:VEVENT

END:VCALENDAR
