BEGIN:VCALENDAR
VERSION:2.0
PRODID:-//ChamberMaster//Event Calendar 2.0//EN
METHOD:PUBLISH
X-PUBLISHED-TTL:P3D
REFRESH-INTERVAL:P3D
CALSCALE:GREGORIAN
BEGIN:VEVENT
DTSTART:20130313T210000Z
DTEND:20130313T230000Z
X-MICROSOFT-CDO-ALLDAYEVENT:FALSE
SUMMARY:March Business After 5
DESCRIPTION:St. Thomas Golf & Country Club hosts and sponsors our pre-St. Patrick's Day edition of Business After 5. For the Irish\, Irish-wanna-be's\, and (of course) golfers\, this event definitely focuses on all things green. Come sample the Club's award-winning food and hospitality. Door prize giveaways include a no-charge Social Membership to the golf club worth $400\; dinner for four\, value $200\; 4 rounds of golf\, value $500\; and your favourite refreshments\, too.  As always\, admission to Business After 5 is FREE and open to anyone from any business or organization that is a Member of the St. Thomas & District Chamber of Commerce. Doors open at 5:00 p.m.  Mix and mingle until our door prize draws\, announcements and sponsor's remarks start at 6:15 p.m.Please join us!Be Seen.  Be Heard.  BELONG.
X-ALT-DESC;FMTTYPE=text/html:<p><strong>St. Thomas Golf &amp\; Country Club</strong> hosts and sponsors our pre-St. Patrick's Day edition of Business After 5. For the Irish\, Irish-wanna-be's\, and (of course) golfers\, this event definitely focuses on all things green. Come sample the Club's award-winning food and hospitality. Door prize giveaways include a no-charge Social Membership to the golf club worth $400\; dinner for four\, value $200\; 4 rounds of golf\,&nbsp\;value $500\; and your favourite refreshments\, too.&nbsp\; </p><p>As always\, admission to Business After 5 is FREE and open to anyone from any business or organization that is a Member of the St. Thomas &amp\; District Chamber of Commerce.&nbsp\;</p><p>Doors open at 5:00 p.m.&nbsp\; Mix and mingle until our door prize draws\, announcements and sponsor's remarks start at 6:15 p.m.</p><p>Please join us!</p><p><strong><em>Be Seen.&nbsp\; Be Heard.&nbsp\; BELONG.</em></strong></p>
LOCATION:St.Thomas Golf & Country Club
UID:e.2614.876
SEQUENCE:3
DTSTAMP:20260423T191121Z
URL:http://www.www.stthomaschamber.on.ca/events/details/march-business-after-5-03-13-2013-876
END:VEVENT

END:VCALENDAR
