BEGIN:VCALENDAR
VERSION:2.0
PRODID:-//ChamberMaster//Event Calendar 2.0//EN
METHOD:PUBLISH
X-PUBLISHED-TTL:P3D
REFRESH-INTERVAL:P3D
CALSCALE:GREGORIAN
BEGIN:VEVENT
DTSTART:20160316T210000Z
DTEND:20160316T230000Z
X-MICROSOFT-CDO-ALLDAYEVENT:FALSE
SUMMARY:March Business After 5
DESCRIPTION:Why wait for St. Patrick's Day? Join us for a head start at our March edition of Business After 5 as we bid farewell to winter with a visit to the spot known for excellence when it comes to the greens!The St. Thomas Golf & Country Club is our host location and sponsor for our March event on the eve of St. Patrick's Day.You can bet that Chef Terrance Tew will create exceptional hors d'oeuvres to mark the occasion and we will be sure to have an ample choice in beverages\, no matter what your favourite may be.\nAdmission to Business After 5 is FREE\, and open to everyone and anyone from the businesses and organizations that are Members of the St. Thomas & District Chamber of Commerce.\nMix and mingle 5:00 p.m. to 6:15 or so\, then it's time for door prize draws and brief remarks by our sponsor.\nBusiness After 5 is proudly the best low-cost/no-cost business networking and connection event in our region\, and St. Thomas Golf & Country Club is certainly an ideal location to catch-up with friends\, make new connections\, and stay in-touch with our community.\nPlease join us!
X-ALT-DESC;FMTTYPE=text/html:Why wait for St. Patrick's Day? Join us for a head start at our March edition of Business After 5 as we bid farewell to winter with a visit to the spot known for excellence when it comes to the greens!<div>The St. Thomas Golf &amp\; Country Club is our host location and sponsor for our March event on the eve of St. Patrick's Day.You can bet that Chef Terrance Tew will create exceptional hors d'oeuvres to mark the occasion and we will be sure to have an ample choice in beverages\, no matter what your favourite may be.</div><div><br></div><div>Admission to Business After 5 is FREE\, and open to everyone and anyone from the businesses and organizations that are Members of the St. Thomas &amp\; District Chamber of Commerce.</div><div><br></div><div>Mix and mingle 5:00 p.m. to 6:15 or so\, then it's time for door prize draws and brief remarks by our sponsor.</div><div><br></div><div>Business After 5 is proudly the best low-cost/no-cost business networking and connection event in our region\, and St. Thomas Golf &amp\; Country Club is certainly an ideal location to catch-up with friends\, make new connections\, and stay in-touch with our community.</div><div><br></div><div>Please join us!</div>
LOCATION:St. Thomas Golf & Country Club
UID:e.2614.969
SEQUENCE:3
DTSTAMP:20260419T195845Z
URL:http://www.www.stthomaschamber.on.ca/events/details/march-business-after-5-03-16-2016-969
END:VEVENT

END:VCALENDAR
